BEGIN:VCALENDAR
VERSION:2.0
PRODID:-//Lost Valley | Ski &amp; Snowboard Area | Auburn, Main - ECPv6.15.20//NONSGML v1.0//EN
CALSCALE:GREGORIAN
METHOD:PUBLISH
X-ORIGINAL-URL:https://www.lostvalleyski.com
X-WR-CALDESC:Events for Lost Valley | Ski &amp; Snowboard Area | Auburn, Main
REFRESH-INTERVAL;VALUE=DURATION:PT1H
X-Robots-Tag:noindex
X-PUBLISHED-TTL:PT1H
BEGIN:VTIMEZONE
TZID:America/New_York
BEGIN:DAYLIGHT
TZOFFSETFROM:-0500
TZOFFSETTO:-0400
TZNAME:EDT
DTSTART:20240310T070000
END:DAYLIGHT
BEGIN:STANDARD
TZOFFSETFROM:-0400
TZOFFSETTO:-0500
TZNAME:EST
DTSTART:20241103T060000
END:STANDARD
BEGIN:DAYLIGHT
TZOFFSETFROM:-0500
TZOFFSETTO:-0400
TZNAME:EDT
DTSTART:20250309T070000
END:DAYLIGHT
BEGIN:STANDARD
TZOFFSETFROM:-0400
TZOFFSETTO:-0500
TZNAME:EST
DTSTART:20251102T060000
END:STANDARD
BEGIN:DAYLIGHT
TZOFFSETFROM:-0500
TZOFFSETTO:-0400
TZNAME:EDT
DTSTART:20260308T070000
END:DAYLIGHT
BEGIN:STANDARD
TZOFFSETFROM:-0400
TZOFFSETTO:-0500
TZNAME:EST
DTSTART:20261101T060000
END:STANDARD
END:VTIMEZONE
BEGIN:VEVENT
DTSTART;TZID=America/New_York:20250812T160000
DTEND;TZID=America/New_York:20250812T210000
DTSTAMP:20260420T103857
CREATED:20250319T223418Z
LAST-MODIFIED:20250505T184403Z
UID:10004906-1755014400-1755032400@www.lostvalleyski.com
SUMMARY:2fer Tuesdays Pizza in the pub
DESCRIPTION:Tuesdays just got better! Swing out to Lost Valley’s Brewpub in Auburn every Tuesday 4p-9p May 6th-Nov 18th (except July 1st) and enjoy 2 for one pizzas! Buy any small pizza and get a second small pizza of equal or lesser value for free! Every Tuesday will also be Trivia Night starting at 6:30pm.\n\nLost Valley’s Brewpub is open during the Spring\, Summer & Fall Tues-Fri 4p-9p for food\, drinks and fun. Featuring Lost Valley Brewing Co on tap and other favorites plus full bar offerings.
URL:https://www.lostvalleyski.com/event/2fer-tuesdays-pizza-in-the-pub/2025-08-12/
LOCATION:Lost Valley\, 200 Lost Valley Rd\, Auburn\, ME\, 04210\, United States
CATEGORIES:Brewpub
ATTACH;FMTTYPE=image/png:https://www.lostvalleyski.com/wp-content/uploads/2025/03/2fer-Tuesday-Pizza-Special.png
ORGANIZER;CN="Lost Valley":MAILTO:info@Lostvalleyski.com
END:VEVENT
BEGIN:VEVENT
DTSTART;TZID=America/New_York:20250812T183000
DTEND;TZID=America/New_York:20250812T203000
DTSTAMP:20260420T103857
CREATED:20250319T223607Z
LAST-MODIFIED:20250625T174658Z
UID:10005259-1755023400-1755030600@www.lostvalleyski.com
SUMMARY:Trivia Night -Every Tuesday!
DESCRIPTION:Grab your wicked smaht friends and join us for a fun weekly trivia night at Lost Valley hosted by Two Lops Trivia. Rotating themes each week. Prizes for top teams and good times for all. Every Tuesday Night May 6th-Nov 18th (except July 1st). Brewpub Opens at 4pm\, Trivia starts at 6:30pm. Sign up onsite.\n\nBut wait\, there’s more! Tuesdays will also be 2fer Tuesdays on all Pizzas!* RSVP and make plans to spend every Tuesday in the Valley!\n\nLost Valley’s Brewpub is open Tues-Fri 4p-9p May 6th-Nov 21st (closed week of July 4th) for food drinks and fun and features Lost Valley Brewing Co Beers on tap and other favorites plus full bar offerings of spirits\, wine\, ciders and seltzers.\n\n*2fer Tuesday Pizza offer: Buy any Pizza and get a 2nd Pizza of equal or lesser value Free! All pizzas are individual size 10″ flatbread style pizzas.
URL:https://www.lostvalleyski.com/event/trivia-night-every-tuesday/2025-08-12/
LOCATION:Lost Valley\, 200 Lost Valley Rd\, Auburn\, ME\, 04210\, United States
CATEGORIES:Brewpub,Music/Entertainment,Trivia
ATTACH;FMTTYPE=image/jpeg:https://www.lostvalleyski.com/wp-content/uploads/2025/03/Trivia-Night-FB-Event.jpg
ORGANIZER;CN="Lost Valley":MAILTO:info@Lostvalleyski.com
END:VEVENT
BEGIN:VEVENT
DTSTART;TZID=America/New_York:20250813T160000
DTEND;TZID=America/New_York:20250813T210000
DTSTAMP:20260420T103857
CREATED:20250717T172716Z
LAST-MODIFIED:20250717T172716Z
UID:10005385-1755100800-1755118800@www.lostvalleyski.com
SUMMARY:Operation Backpack with the ALYMCA
DESCRIPTION: Help support community children with much needed supplies to start the 2025 school year. Bring your school supply donations to Lost Valley on August 13th and enjoy an evening of fun and games with the community.\n Admission is free for the whole family. We’re giving away free backpacks including supplies for school age children – while supplies last!
URL:https://www.lostvalleyski.com/event/operation-backpack-with-the-alymca/
LOCATION:Lost Valley\, 200 Lost Valley Rd\, Auburn\, ME\, 04210\, United States
CATEGORIES:Brewpub,Cause
ATTACH;FMTTYPE=image/jpeg:https://www.lostvalleyski.com/wp-content/uploads/2025/07/ALYMCA-Operation-Backpack-2025.jpg
ORGANIZER;CN="Lost Valley":MAILTO:info@Lostvalleyski.com
END:VEVENT
BEGIN:VEVENT
DTSTART;TZID=America/New_York:20250814T160000
DTEND;TZID=America/New_York:20250814T210000
DTSTAMP:20260420T103857
CREATED:20250710T163637Z
LAST-MODIFIED:20250814T013642Z
UID:10005381-1755187200-1755205200@www.lostvalleyski.com
SUMMARY:Baxter Beer Games at Lost Valley
DESCRIPTION:Join us for an unforgettable evening of fun\, games\, and brews at the Baxter Beer Games at Lost Valley! Gather your friends and get ready to compete in a series of exciting and unique beer-themed challenges.\nRegistration Details:\n\nCost: $20 per teamSuggested Team Size: 6-10 members (all members must be 21+)Early Bird Bonus: Register by July 17th and receive a free swag bag!Registration Deadline: August 14th\, 2025Register online at https://shop.lostvalleyski.com/events\n\nEvent Schedule:\n4pm Brewpub Opens and Check-in\n5:15pm Captain’s Meeting in front of the Deck\n5:30 PM – Torch Lighting CeremonyKick off the festivities with a ceremonial torch lighting that sets the stage for an epic evening.\n6:00 PM – Games Begin\n\nBattleship Beer PongTest your aim and strategy in this twist on the classic game of Battleship with a beer pong twist!\n\nPolish HorseshoesShow off your throwing skills in this competitive and entertaining game.\n\nBeer Slalom Relay RaceTeam up and navigate through a slalom course with a beer in hand – speed and balance are key!\n\nDisc Golf ChallengeEvery member of your team will partiicpate indivdually as time allows. Number of shots to get it in the basket will be counted and recorded. Team with the lowest average score takes the Gold\n9:00 PM (ish) – Awards & Medal Ceremony\n\nWhether you’re in it to win it or just looking for a great time\, the Baxter Beer Games promise an evening of laughter\, camaraderie\, and of course\, excellent beer. Don’t miss out on the action – sign up your team today and get ready to make memories that will last a lifetime!\nRegister online at https://shop.lostvalleyski.com/events
URL:https://www.lostvalleyski.com/event/baxter-beer-games-at-lost-valley/
LOCATION:Lost Valley\, 200 Lost Valley Rd\, Auburn\, ME\, 04210\, United States
CATEGORIES:Brewpub,Fitness,Music/Entertainment
ORGANIZER;CN="Lost Valley":MAILTO:info@Lostvalleyski.com
END:VEVENT
BEGIN:VEVENT
DTSTART;TZID=America/New_York:20250815T173000
DTEND;TZID=America/New_York:20250815T203000
DTSTAMP:20260420T103857
CREATED:20250519T141712Z
LAST-MODIFIED:20250519T141712Z
UID:10005297-1755279000-1755289800@www.lostvalleyski.com
SUMMARY:Rollin' in the Dough Food Truck at Lost Valley
DESCRIPTION:Rollin’ in the Dough Food Truck joins us onsite 5:30p-8:30p on Friday\, August 15th at Lost Valley in Auburn as part of the Kona Brewing Summer Concert Series.\nOutside whenever possible\, swing out to Lost Valley in Auburn every Friday Night for free all ages concerts on the Dirigo FCU Stage. Doors Open at 4pm. Music starts at 6:30pm. Food Trucks Serving 5:30-8:30\nEnjoy Liquid Aloha with Kona Big Wave’s easy-drinking\, island refreshment. Plus craft beers\, canned cocktails and other favorites at the outdoor bar\, plus full bar offerings inside.\nRotating Food Truck onsite each week 5:30-8:30 plus Lost Valley’s Brewpub Food.\nFree All ages Concerts. Bring your own lawnchair\, but you can’t bring your own food & beverages. Pets welcome outside on a leash. Event is Rain or Shine….Inside if Rain..Outside if Shine\n2025 Band & Food Truck LineupJune 13th Father’s Day Eve Eve w/Skosh -Pinky D’s Poutine TruckJune 20 Fire in the Hole -Sum’battus BBQ Food TruckJune 27 Fake Feelings & guests -Boondocks Farm Food TruckJuly 11 Burning Time & friends -Tripp’s Primal Farms Food TruckJuly 18 Camp of Rock\, End of Camp Show -Pinky D’s PoutineJuly 25 Stream Reggae -Jeff’s JamaicanAug 1 Bazinga! Band -Cruzin’ Slice Food TruckAug 8 Incubus Maine -Pinky D’s Poutine TruckAug 15th Ish -Rollin’ in the Dough Food TruckAug 22nd L/A Harley Bike Night -Burnt Ends BBQAug 29 Jumpin’ Willy’s -L/A Taco Food TruckSept 5th Hairy Pie-Cheese the Day Food Truck\nPresenting Sponsor: Kona Brewing Company was founded by father and son team Cameron Healy and Spoon Khalsa. The pair had a vision to reflect the spirit\, culture\, and beauty of Hawaii in a collection of local island craft beers\, so in 1994 they set out for the Big Island to bring their dream to life. Flash forward to today\, and Kona Brewing has become one of the widely popular craft beer brands in the world.\nStage Sponsor: Dirigo Federal Credit Union\, through the teamwork and dedication of its employees and officials\, continually strives to provide the best\, most innovative financial services\, while supporting its members with a commitment to quality\, value\, and personalized service. Dirigo FCU proudly serve the counties of Androscoggin\, Cumberland\, Franklin\, Kennebec\, Knox\, Lincoln\, Oxford\, Sagadahoc\, Somerset\, and York
URL:https://www.lostvalleyski.com/event/rollin-in-the-dough-food-truck-at-lost-valley/
LOCATION:Lost Valley\, 200 Lost Valley Rd\, Auburn\, ME\, 04210\, United States
CATEGORIES:Brewpub,Food Truck,Music/Entertainment
ATTACH;FMTTYPE=image/jpeg:https://www.lostvalleyski.com/wp-content/uploads/2023/06/rollin-in-the-dough-food-truck.jpg
ORGANIZER;CN="Lost Valley":MAILTO:info@Lostvalleyski.com
END:VEVENT
BEGIN:VEVENT
DTSTART;TZID=America/New_York:20250815T180000
DTEND;TZID=America/New_York:20250815T190000
DTSTAMP:20260420T103857
CREATED:20250423T175115Z
LAST-MODIFIED:20250423T175115Z
UID:10005201-1755280800-1755284400@www.lostvalleyski.com
SUMMARY:Trails in the Valley Run/Walk/Hike
DESCRIPTION:Join us every Friday for an adventure amidst the stunning landscapes 7 trails of Lost Valley in Auburn!  Lace up your running shoes and get ready to conquer the trails in the Valley alongside fellow enthusiasts. Led by our experienced leaders\, Jason\, Grant\, and Beth this group trail experience is absolutely free and open to all.  Meetup under the canopy beforehand\, run/walk leaves around 6:00pm\n\nBut wait\, there’s more!  Participate in multiple weeks and earn some seriously cool swag along the way!  Whether you’re a newbie looking for a leisurely jog or a seasoned pro seeking a challenge\, we’ve got you covered with three distinct routes to choose from:\n Green Circle Easy Route: Perfect for those easing into trail running\, this 2-mile path offers scenic views and a gentle introduction to the joys of outdoor running. Blue Square Intermediate Route (Approx. 5k): Ready to step up your game? Take on this intermediate route\, spanning roughly 5 kilometers of diverse terrain\, and elevate your trail running skills to the next level! Advanced Black Diamond 5k Route: Calling all thrill-seekers and adrenaline junkies! Brace yourself for the ultimate test with our Advanced Black Diamond route\, a challenging 5k trail.But the excitement doesn’t end there!  After your run\, unwind and groove to live music at the Brewpub\, where a delectable selection of food and drinks awaits. And during the summer months\, soak up the vibes of outdoor concerts while indulging in tasty treats from food trucks and sipping on refreshing beverages from our outdoor bar. \n\nReady to embark on a journey of adventure\, camaraderie\, and fun? Don’t miss out on the Trails in the Valley experience at Lost Valley—where every Friday promises thrills\, cheers\, and unforgettable memories! See you on the trails! \n\nThe Trails in the Valley run event is sponsored by our friends at Lamey Wellehan\, your source for outdoor adventure footwear
URL:https://www.lostvalleyski.com/event/trails-in-the-valley-run-walk-hike/2025-08-15/
LOCATION:Lost Valley\, 200 Lost Valley Rd\, Auburn\, ME\, 04210\, United States
CATEGORIES:Brewpub,Trail Run
ATTACH;FMTTYPE=image/png:https://www.lostvalleyski.com/wp-content/uploads/2024/05/Trails-In-The-Valley-v1.png
ORGANIZER;CN="Lost Valley":MAILTO:info@Lostvalleyski.com
END:VEVENT
BEGIN:VEVENT
DTSTART;TZID=America/New_York:20250815T183000
DTEND;TZID=America/New_York:20250815T213000
DTSTAMP:20260420T103857
CREATED:20250422T174307Z
LAST-MODIFIED:20250618T164649Z
UID:10005182-1755282600-1755293400@www.lostvalleyski.com
SUMMARY:Kona Brewing Concert Series at Lost Valley
DESCRIPTION:Come out and play every Friday at Lost Valley in Auburn for the Kona Brewing Summer Concert Series. Outside whenever possible\, join us every Friday Night for free all ages concerts on the Dirigo FCU Stage. Doors Open at 4pm. Music starts at 6:30pm\n\nEnjoy Kona Brewing beers and other favorites\, select cocktails\, ciders and seltzers from the outdoor bar\, plus full bar offerings inside.\nWeekly Rotating Food truck on site each week and sit down dining in Lost Valley’s Pub. See host for inside/outside pub seating.\n\nBring your own lawnchair\, but you can’t bring your own food & beverages. Pets welcome outside on a leash. Event is Rain or Shine….Inside if Rain..Outside if Shine\n\n2025 Band & Food Truck LineupJune 13th Father’s Day Eve Eve w/Skosh -Pinky D’s Poutine TruckJune 20 Dapper Gents -Sum’battus BBQ Food TruckJune 27 Fake Feelings & guests -Boondocks Farm Food TruckJuly 11 Burning Time & friends -Tripp’s Primal Farms Food TruckJuly 18 Camp of Rock\, End of Camp Show -Pinky D’s PoutineJuly 25 Stream Reggae -Jeff’s JamaicanAug 1 Bazinga! Band -Cruzin’ Slice Food TruckAug 8 Incubus Maine -Pinky D’s Poutine TruckAug 15th Ish -Rollin’ in the Dough Food TruckAug 22nd L/A Harley Bike Night -Burnt Ends BBQAug 29 Jumpin’ Willy’s -L/A Taco Food TruckSept 5th Hairy Pie-Cheese the Day Food Truck\n\nAbout our sponsors:\nPresenting Sponsor: Kona Brewing Company was founded by father and son team Cameron Healy and Spoon Khalsa. The pair had a vision to reflect the spirit\, culture\, and beauty of Hawaii in a collection of local island craft beers\, so in 1994 they set out for the Big Island to bring their dream to life. Flash forward to today\, and Kona Brewing has become one of the widely popular craft beer brands in the world.\n\nStage Sponsor: Dirigo Federal Credit Union\, through the teamwork and dedication of its employees and officials\, continually strives to provide the best\, most innovative financial services\, while supporting its members with a commitment to quality\, value\, and personalized service. Dirigo FCU proudly serve the counties of Androscoggin\, Cumberland\, Franklin\, Kennebec\, Knox\, Lincoln\, Oxford\, Sagadahoc\, Somerset\, and York.
URL:https://www.lostvalleyski.com/event/kona-brewing-concert-series-at-lost-valley/2025-08-15/
LOCATION:Lost Valley\, 200 Lost Valley Rd\, Auburn\, ME\, 04210\, United States
CATEGORIES:Brewpub,Family Event,Food Truck,Music/Entertainment
ATTACH;FMTTYPE=image/jpeg:https://www.lostvalleyski.com/wp-content/uploads/2025/04/Summer-Concert-Series-at-Lost-Valley-Auburn-Maine-2025.jpg
ORGANIZER;CN="Lost Valley":MAILTO:info@Lostvalleyski.com
END:VEVENT
BEGIN:VEVENT
DTSTART;TZID=America/New_York:20250815T183000
DTEND;TZID=America/New_York:20250815T213000
DTSTAMP:20260420T103857
CREATED:20250516T174008Z
LAST-MODIFIED:20250516T174008Z
UID:10005286-1755282600-1755293400@www.lostvalleyski.com
SUMMARY:ISH Live at Lost Valley -Kona Brewing Summer Concert Series
DESCRIPTION:The Kona Brewing Summer Concert Series continues with ISH on the Dirigo FCU Stage on Friday\, Augusta 15th at 6:30pm! ISH brings the 90’s and 2000’s alternative and classic rock like no other!\n\nCome out and play every Friday at Lost Valley in Auburn for the Kona Brewing Summer Concert Series. Outside whenever possible\, join us every Friday Night for free all ages concerts on the Dirigo FCU Stage. Doors Open at 4pm. Music starts at 6:30pm\nEnjoy Kona Brewing beers and other favorites\, select cocktails\, ciders and seltzers from the outdoor bar\, plus full bar offerings inside.\nWeekly Rotating Food truck on site each week and sit down dining in Lost Valley’s Pub. See host for inside/outside pub seating.Bring your own lawnchair\, but you can’t bring your own food & beverages. Pets welcome outside on a leash. Event is Rain or Shine….Inside if Rain…Outside if Shine\n\n2025 Band & Food Truck LineupJune 13th Father’s Day Eve Eve w/Skosh -Pinky D’s Poutine TruckJune 20 Fire in the Hole -Sum’battus BBQ Food TruckJune 27 Fake Feelings & guests -Boondocks Farm Food TruckJuly 11 Burning Time & friends -Tripp’s Primal Farms Food TruckJuly 18 Camp of Rock\, End of Camp Show -Pinky D’s PoutineJuly 25 Stream Reggae -Jeff’s JamaicanAug 1 Bazinga! Band -Cruzin’ Slice Food TruckAug 8 Incubus Maine -Pinky D’s Poutine TruckAug 15th Ish -Rollin’ in the Dough Food TruckAug 22nd L/A Harley Bike Night -Burnt Ends BBQAug 29 Jumpin’ Willy’s -L/A Taco Food TruckSept 5th Hairy Pie-Cheese the Day Food Truck\n\nAbout our sponsors:Presenting Sponsor: Kona Brewing Company was founded by father and son team Cameron Healy and Spoon Khalsa. The pair had a vision to reflect the spirit\, culture\, and beauty of Hawaii in a collection of local island craft beers\, so in 1994 they set out for the Big Island to bring their dream to life. Flash forward to today\, and Kona Brewing has become one of the widely popular craft beer brands in the world.\nStage Sponsor: Dirigo Federal Credit Union\, through the teamwork and dedication of its employees and officials\, continually strives to provide the best\, most innovative financial services\, while supporting its members with a commitment to quality\, value\, and personalized service. Dirigo FCU proudly serve the counties of Androscoggin\, Cumberland\, Franklin\, Kennebec\, Knox\, Lincoln\, Oxford\, Sagadahoc\, Somerset\, and York.
URL:https://www.lostvalleyski.com/event/ish-live-at-lost-valley-kona-brewing-summer-concert-series/
LOCATION:Lost Valley\, 200 Lost Valley Rd\, Auburn\, ME\, 04210\, United States
CATEGORIES:Brewpub,Music/Entertainment,Outdoor Concert
ATTACH;FMTTYPE=image/png:https://www.lostvalleyski.com/wp-content/uploads/2025/05/ISH-outdoor-concert-2025.png
ORGANIZER;CN="Lost Valley":MAILTO:info@Lostvalleyski.com
END:VEVENT
END:VCALENDAR