BEGIN:VCALENDAR
VERSION:2.0
PRODID:-//Lost Valley | Ski &amp; Snowboard Area | Auburn, Main - ECPv6.15.20//NONSGML v1.0//EN
CALSCALE:GREGORIAN
METHOD:PUBLISH
X-ORIGINAL-URL:https://www.lostvalleyski.com
X-WR-CALDESC:Events for Lost Valley | Ski &amp; Snowboard Area | Auburn, Main
REFRESH-INTERVAL;VALUE=DURATION:PT1H
X-Robots-Tag:noindex
X-PUBLISHED-TTL:PT1H
BEGIN:VTIMEZONE
TZID:America/New_York
BEGIN:DAYLIGHT
TZOFFSETFROM:-0500
TZOFFSETTO:-0400
TZNAME:EDT
DTSTART:20240310T070000
END:DAYLIGHT
BEGIN:STANDARD
TZOFFSETFROM:-0400
TZOFFSETTO:-0500
TZNAME:EST
DTSTART:20241103T060000
END:STANDARD
BEGIN:DAYLIGHT
TZOFFSETFROM:-0500
TZOFFSETTO:-0400
TZNAME:EDT
DTSTART:20250309T070000
END:DAYLIGHT
BEGIN:STANDARD
TZOFFSETFROM:-0400
TZOFFSETTO:-0500
TZNAME:EST
DTSTART:20251102T060000
END:STANDARD
BEGIN:DAYLIGHT
TZOFFSETFROM:-0500
TZOFFSETTO:-0400
TZNAME:EDT
DTSTART:20260308T070000
END:DAYLIGHT
BEGIN:STANDARD
TZOFFSETFROM:-0400
TZOFFSETTO:-0500
TZNAME:EST
DTSTART:20261101T060000
END:STANDARD
END:VTIMEZONE
BEGIN:VEVENT
DTSTART;TZID=America/New_York:20250729T160000
DTEND;TZID=America/New_York:20250729T210000
DTSTAMP:20260420T121409
CREATED:20250319T223418Z
LAST-MODIFIED:20250505T184403Z
UID:10004904-1753804800-1753822800@www.lostvalleyski.com
SUMMARY:2fer Tuesdays Pizza in the pub
DESCRIPTION:Tuesdays just got better! Swing out to Lost Valley’s Brewpub in Auburn every Tuesday 4p-9p May 6th-Nov 18th (except July 1st) and enjoy 2 for one pizzas! Buy any small pizza and get a second small pizza of equal or lesser value for free! Every Tuesday will also be Trivia Night starting at 6:30pm.\n\nLost Valley’s Brewpub is open during the Spring\, Summer & Fall Tues-Fri 4p-9p for food\, drinks and fun. Featuring Lost Valley Brewing Co on tap and other favorites plus full bar offerings.
URL:https://www.lostvalleyski.com/event/2fer-tuesdays-pizza-in-the-pub/2025-07-29/
LOCATION:Lost Valley\, 200 Lost Valley Rd\, Auburn\, ME\, 04210\, United States
CATEGORIES:Brewpub
ATTACH;FMTTYPE=image/png:https://www.lostvalleyski.com/wp-content/uploads/2025/03/2fer-Tuesday-Pizza-Special.png
ORGANIZER;CN="Lost Valley":MAILTO:info@Lostvalleyski.com
END:VEVENT
BEGIN:VEVENT
DTSTART;TZID=America/New_York:20250729T160000
DTEND;TZID=America/New_York:20250729T210000
DTSTAMP:20260420T121409
CREATED:20250728T193119Z
LAST-MODIFIED:20250729T160756Z
UID:10005388-1753804800-1753822800@www.lostvalleyski.com
SUMMARY:BOGO Wings & Limited Time Sauces -National Wing Day
DESCRIPTION:🎉 National Wing Day at Lost Valley Brewpub – BOGO Wings\, Trivia & More!\n📅 Tuesday\, June 29th\n🕓 4 PM – 9 PM\n📍 Lost Valley Brewpub\n🍗 BOGO Bone-In Wings – Limited Time Only!\nBuy one order of Bone-In Wings\, get a second order FREE!\nEach order is Nearly 1lb of Wings!\n• Carrots & celery\n• Tossed in your choice of sauce (1 per order)\n• Served with ranch or bleu cheese ( 1 per order) \n🔥 LV Boneless Wings – (not available for BOGO Deal)\nIncludes:\n• Carrots & Celery\n• Tossed in your choice of sauce (1 per order)\n• Served with ranch or bleu cheese \n🌟 LIMITED-TIME SAUCES & RUBS\nTry something new while it lasts:\n• Sweet & Sour Sauce\n• Smokehouse Maple Dry Rub (featuring Twitchell’s Maple Syrup!)\n• Japanese BBQ Sauce\nOr stick with the classics:\n• Honey BBQ\n• House Buffalo\n• Garlic Parmesan\n• Sweet Chili\n• Cajun Dry Rub\n🎤 TRIVIA NIGHT @ 6:30PM\nBring your brainpower and your crew—great prizes and good vibes await!\n🍕 2-for-1 Small Pizzas – All Night Long\nIt’s also 2fer Tuesday\, so grab a slice (or two)!\n🎟 No cover\, just come hungry!\n🪑 Seating is first come\, first served\n🍻 Cold beer\, hot wings\, and great times\nTag your wing-loving friends and RSVP now!\nLet’s make National Wing Day one to remember
URL:https://www.lostvalleyski.com/event/bogo-wings-limited-time-sauces-national-wing-day/
LOCATION:Lost Valley\, 200 Lost Valley Rd\, Auburn\, ME\, 04210\, United States
CATEGORIES:Brewpub
ATTACH;FMTTYPE=image/jpeg:https://www.lostvalleyski.com/wp-content/uploads/2025/07/National-Wing-Day-2025.jpg
ORGANIZER;CN="Lost Valley":MAILTO:info@Lostvalleyski.com
END:VEVENT
BEGIN:VEVENT
DTSTART;TZID=America/New_York:20250729T183000
DTEND;TZID=America/New_York:20250729T203000
DTSTAMP:20260420T121409
CREATED:20250319T223607Z
LAST-MODIFIED:20250625T174658Z
UID:10005257-1753813800-1753821000@www.lostvalleyski.com
SUMMARY:Trivia Night -Every Tuesday!
DESCRIPTION:Grab your wicked smaht friends and join us for a fun weekly trivia night at Lost Valley hosted by Two Lops Trivia. Rotating themes each week. Prizes for top teams and good times for all. Every Tuesday Night May 6th-Nov 18th (except July 1st). Brewpub Opens at 4pm\, Trivia starts at 6:30pm. Sign up onsite.\n\nBut wait\, there’s more! Tuesdays will also be 2fer Tuesdays on all Pizzas!* RSVP and make plans to spend every Tuesday in the Valley!\n\nLost Valley’s Brewpub is open Tues-Fri 4p-9p May 6th-Nov 21st (closed week of July 4th) for food drinks and fun and features Lost Valley Brewing Co Beers on tap and other favorites plus full bar offerings of spirits\, wine\, ciders and seltzers.\n\n*2fer Tuesday Pizza offer: Buy any Pizza and get a 2nd Pizza of equal or lesser value Free! All pizzas are individual size 10″ flatbread style pizzas.
URL:https://www.lostvalleyski.com/event/trivia-night-every-tuesday/2025-07-29/
LOCATION:Lost Valley\, 200 Lost Valley Rd\, Auburn\, ME\, 04210\, United States
CATEGORIES:Brewpub,Music/Entertainment,Trivia
ATTACH;FMTTYPE=image/jpeg:https://www.lostvalleyski.com/wp-content/uploads/2025/03/Trivia-Night-FB-Event.jpg
ORGANIZER;CN="Lost Valley":MAILTO:info@Lostvalleyski.com
END:VEVENT
BEGIN:VEVENT
DTSTART;TZID=America/New_York:20250730T160000
DTEND;TZID=America/New_York:20250730T210000
DTSTAMP:20260420T121409
CREATED:20250710T165913Z
LAST-MODIFIED:20250710T165913Z
UID:10005382-1753891200-1753909200@www.lostvalleyski.com
SUMMARY:Greater Andro Humane Society Fundraiser Night
DESCRIPTION:Join volunteers\, staff and friends of the Greater Androscoggin Humane Society as we invade Lost Valley for a night of fun!\nLet’s get together and raise much needed funds to support the animals\, programs and services of the GAHS. Lost Valley will be donating a percentage of the evening’s sales to help pets in our community.\nMore details to come soon!
URL:https://www.lostvalleyski.com/event/greater-andro-humane-society-fundraiser-night/
LOCATION:Lost Valley\, 200 Lost Valley Rd\, Auburn\, ME\, 04210\, United States
CATEGORIES:Brewpub,Cause,Music/Entertainment
ATTACH;FMTTYPE=image/jpeg:https://www.lostvalleyski.com/wp-content/uploads/2025/07/humane-society-fundrasier-2025.jpg
ORGANIZER;CN="Lost Valley":MAILTO:info@Lostvalleyski.com
END:VEVENT
BEGIN:VEVENT
DTSTART;TZID=America/New_York:20250731T180000
DTEND;TZID=America/New_York:20250731T200000
DTSTAMP:20260420T121409
CREATED:20250416T141203Z
LAST-MODIFIED:20250416T141203Z
UID:10005168-1753984800-1753992000@www.lostvalleyski.com
SUMMARY:Thursday Cornhole Series at Lost Valley
DESCRIPTION: Cornhole Thursdays at Lost Valley Brewpub – Sponsored by Surfside Canned Cocktails!  Drop in any or every week!\nGet ready for 8 weeks of cornhole action at Lost Valley’s Brewpub in Auburn\, happening every Thursday from June 12th to August 7th (no series on July 3rd). Each week\, we’ll rotate the format to keep things fresh and fun!\nThis event is Rain or Shine\, Inside the big room if Rain but Outside otherwise\n$10pp cash entry fee\n Schedule & Formats: June 12 – Week A: Scoreholio Format (Automatic matchmaking\, round-robin into a double-elimination bracket) June 19 – Week B: Bring Your Own Partner (Competitive & For Fun divisions) June 26 – Week A: Scoreholio Format No cornhole on July 3rd July 10 – Week B: Bring Your Own Partner July 17 – Week A: Scoreholio Format July 24 – Week B: Bring Your Own Partner July 31 – Week A: Scoreholio Format August 7 – Week B: Bring Your Own Partner\n Swag every week\, from Surfside Canned Cocktails! Surfside Canned Cocktails on Special too! Enjoy great brews\, food\, and summer nights in the Brewpub! Pub Opens at 4p\, Games start at 6 PM – Whether you’re a serious competitor or just tossing for fun\, there’s a spot for you!\nThe Cornhole Matches are run by TB Events\nTag your cornhole crew and get ready to throw down!  #CornholeThursdays #LostValleyBrewpub #SurfsideCannedCocktails
URL:https://www.lostvalleyski.com/event/thursday-cornhole-series-at-lost-valley/2025-07-31/
LOCATION:Lost Valley\, 200 Lost Valley Rd\, Auburn\, ME\, 04210\, United States
CATEGORIES:Brewpub,cornhole,Music/Entertainment
ATTACH;FMTTYPE=image/jpeg:https://www.lostvalleyski.com/wp-content/uploads/2025/04/summer-cornhole-league-at-lost-valley-auburn-maine-2025.jpg
ORGANIZER;CN="Lost Valley":MAILTO:info@Lostvalleyski.com
END:VEVENT
BEGIN:VEVENT
DTSTART;TZID=America/New_York:20250731T180000
DTEND;TZID=America/New_York:20250731T210000
DTSTAMP:20260420T121409
CREATED:20250710T171838Z
LAST-MODIFIED:20250710T171838Z
UID:10005383-1753984800-1753995600@www.lostvalleyski.com
SUMMARY:Andrew Dostie Live in the Pub
DESCRIPTION:Enjoy the sweet sounds of Andrew Dostie\, Thursday July 31st 6p-9p in the pub area at Lost Valley in Auburn.\nBrewpub Opens at 4pm for food\, drinks and fun. Come out and play!
URL:https://www.lostvalleyski.com/event/andrew-dostie-live-in-the-pub/
LOCATION:Lost Valley\, 200 Lost Valley Rd\, Auburn\, ME\, 04210\, United States
CATEGORIES:Brewpub,Music/Entertainment
ATTACH;FMTTYPE=image/jpeg:https://www.lostvalleyski.com/wp-content/uploads/2025/07/Andrew-Dostie.jpg
ORGANIZER;CN="Lost Valley":MAILTO:info@Lostvalleyski.com
END:VEVENT
BEGIN:VEVENT
DTSTART;TZID=America/New_York:20250801T170000
DTEND;TZID=America/New_York:20250801T200000
DTSTAMP:20260420T121409
CREATED:20250718T201547Z
LAST-MODIFIED:20250718T201547Z
UID:10005386-1754067600-1754078400@www.lostvalleyski.com
SUMMARY:L.L.Bean Bootmobile Meet & Greet
DESCRIPTION: L.L.Bean’s legendary Bootmobile is rolling into Lost Valley! Stop by on Friday\, August 1st from 5pm-8pm and check out one of Maine’s most iconic (and oversized) vehicles — the L.L.Bean Bootmobile! Snap a photo and celebrate this fun piece of Maine outdoor heritage.\nPair it with your visit to the Oscar Mayer Wienermobile for a night of larger-than-life photo ops and family fun.\n Live Music | Food & Drinks | Free & Family FriendlyThe Brewpub will be open — come hang out\, snap pics\, and enjoy a little slice of Maine quirkiness
URL:https://www.lostvalleyski.com/event/l-l-bean-bootmobile-meet-greet/
LOCATION:Lost Valley\, 200 Lost Valley Rd\, Auburn\, ME\, 04210\, United States
CATEGORIES:Family Event,Music/Entertainment
ATTACH;FMTTYPE=image/jpeg:https://www.lostvalleyski.com/wp-content/uploads/2025/07/bootmobile.jpg
ORGANIZER;CN="Lost Valley":MAILTO:info@Lostvalleyski.com
END:VEVENT
BEGIN:VEVENT
DTSTART;TZID=America/New_York:20250801T170000
DTEND;TZID=America/New_York:20250801T200000
DTSTAMP:20260420T121409
CREATED:20250718T201716Z
LAST-MODIFIED:20250718T201716Z
UID:10005387-1754067600-1754078400@www.lostvalleyski.com
SUMMARY:Weinermobile Meet & Greet
DESCRIPTION: “Oh\, I Wish I Were at Lost Valley!” – Oscar Mayer Wienermobile Stop \nJoin us at Lost Valley on Friday\, August 1st from 5pm-8pm for a fun-filled evening as the world-famous Oscar Mayer Wienermobile rolls into town! Snap a selfie with the iconic 27-foot hot dog on wheels\, grab some free Wienermobile swag\, and relish the moment with friends and family.\nWhether you’re a lifelong fan of this legendary piece of Americana or just looking for a quirky way to kick off your weekend\, this is a stop you won’t want to miss!\nThe Brewpub will be open with great food\, cold drinks\, and good vibes — plus live music to keep things rolling.\nThe L.L.Bean Bootmobile will also be onsite!\n Free Admission | Family Friendly | Photo Ops & Giveaways
URL:https://www.lostvalleyski.com/event/weinermobile-meet-greet/
LOCATION:Lost Valley\, 200 Lost Valley Rd\, Auburn\, ME\, 04210\, United States
CATEGORIES:Brewpub,Family Event
ATTACH;FMTTYPE=image/jpeg:https://www.lostvalleyski.com/wp-content/uploads/2025/07/Oscar_Mayer_Frankmobile-scaled.jpg
ORGANIZER;CN="Lost Valley":MAILTO:info@Lostvalleyski.com
END:VEVENT
BEGIN:VEVENT
DTSTART;TZID=America/New_York:20250801T173000
DTEND;TZID=America/New_York:20250801T203000
DTSTAMP:20260420T121409
CREATED:20250519T141554Z
LAST-MODIFIED:20250519T141554Z
UID:10005296-1754069400-1754080200@www.lostvalleyski.com
SUMMARY:Cruzin' Slice Food Truck at Lost Valley
DESCRIPTION:Cruzin’ Slice Food Truck joins us onsite 5:30p-8:30p on Friday\, August 1st at Lost Valley in Auburn as part of the Kona Brewing Summer Concert Series.\nOutside whenever possible\, swing out to Lost Valley in Auburn every Friday Night for free all ages concerts on the Dirigo FCU Stage. Doors Open at 4pm. Music starts at 6:30pm. Food Trucks Serving 5:30-8:30\nEnjoy Liquid Aloha with Kona Big Wave’s easy-drinking\, island refreshment. Plus craft beers\, canned cocktails and other favorites at the outdoor bar\, plus full bar offerings inside.\nRotating Food Truck onsite each week 5:30-8:30 plus Lost Valley’s Brewpub Food.\nFree All ages Concerts. Bring your own lawnchair\, but you can’t bring your own food & beverages. Pets welcome outside on a leash. Event is Rain or Shine….Inside if Rain..Outside if Shine\n2025 Band & Food Truck LineupJune 13th Father’s Day Eve Eve w/Skosh -Pinky D’s Poutine TruckJune 20 Fire in the Hole -Sum’battus BBQ Food TruckJune 27 Fake Feelings & guests -Boondocks Farm Food TruckJuly 11 Burning Time & friends -Tripp’s Primal Farms Food TruckJuly 18 Camp of Rock\, End of Camp Show -Pinky D’s PoutineJuly 25 Stream Reggae -Jeff’s JamaicanAug 1 Bazinga! Band -Cruzin’ Slice Food TruckAug 8 Incubus Maine -Pinky D’s Poutine TruckAug 15th Ish -Rollin’ in the Dough Food TruckAug 22nd L/A Harley Bike Night -Burnt Ends BBQAug 29 Jumpin’ Willy’s -L/A Taco Food TruckSept 5th Hairy Pie-Cheese the Day Food Truck\nPresenting Sponsor: Kona Brewing Company was founded by father and son team Cameron Healy and Spoon Khalsa. The pair had a vision to reflect the spirit\, culture\, and beauty of Hawaii in a collection of local island craft beers\, so in 1994 they set out for the Big Island to bring their dream to life. Flash forward to today\, and Kona Brewing has become one of the widely popular craft beer brands in the world.\nStage Sponsor: Dirigo Federal Credit Union\, through the teamwork and dedication of its employees and officials\, continually strives to provide the best\, most innovative financial services\, while supporting its members with a commitment to quality\, value\, and personalized service. Dirigo FCU proudly serve the counties of Androscoggin\, Cumberland\, Franklin\, Kennebec\, Knox\, Lincoln\, Oxford\, Sagadahoc\, Somerset\, and York
URL:https://www.lostvalleyski.com/event/cruzin-slice-food-truck-at-lost-valley/
LOCATION:Lost Valley\, 200 Lost Valley Rd\, Auburn\, ME\, 04210\, United States
CATEGORIES:Brewpub,Food Truck,Music/Entertainment
ATTACH;FMTTYPE=image/jpeg:https://www.lostvalleyski.com/wp-content/uploads/2023/06/cruzin-slice-food-truck-2.jpg
ORGANIZER;CN="Lost Valley":MAILTO:info@Lostvalleyski.com
END:VEVENT
BEGIN:VEVENT
DTSTART;TZID=America/New_York:20250801T180000
DTEND;TZID=America/New_York:20250801T190000
DTSTAMP:20260420T121409
CREATED:20250423T175115Z
LAST-MODIFIED:20250423T175115Z
UID:10005199-1754071200-1754074800@www.lostvalleyski.com
SUMMARY:Trails in the Valley Run/Walk/Hike
DESCRIPTION:Join us every Friday for an adventure amidst the stunning landscapes 7 trails of Lost Valley in Auburn!  Lace up your running shoes and get ready to conquer the trails in the Valley alongside fellow enthusiasts. Led by our experienced leaders\, Jason\, Grant\, and Beth this group trail experience is absolutely free and open to all.  Meetup under the canopy beforehand\, run/walk leaves around 6:00pm\n\nBut wait\, there’s more!  Participate in multiple weeks and earn some seriously cool swag along the way!  Whether you’re a newbie looking for a leisurely jog or a seasoned pro seeking a challenge\, we’ve got you covered with three distinct routes to choose from:\n Green Circle Easy Route: Perfect for those easing into trail running\, this 2-mile path offers scenic views and a gentle introduction to the joys of outdoor running. Blue Square Intermediate Route (Approx. 5k): Ready to step up your game? Take on this intermediate route\, spanning roughly 5 kilometers of diverse terrain\, and elevate your trail running skills to the next level! Advanced Black Diamond 5k Route: Calling all thrill-seekers and adrenaline junkies! Brace yourself for the ultimate test with our Advanced Black Diamond route\, a challenging 5k trail.But the excitement doesn’t end there!  After your run\, unwind and groove to live music at the Brewpub\, where a delectable selection of food and drinks awaits. And during the summer months\, soak up the vibes of outdoor concerts while indulging in tasty treats from food trucks and sipping on refreshing beverages from our outdoor bar. \n\nReady to embark on a journey of adventure\, camaraderie\, and fun? Don’t miss out on the Trails in the Valley experience at Lost Valley—where every Friday promises thrills\, cheers\, and unforgettable memories! See you on the trails! \n\nThe Trails in the Valley run event is sponsored by our friends at Lamey Wellehan\, your source for outdoor adventure footwear
URL:https://www.lostvalleyski.com/event/trails-in-the-valley-run-walk-hike/2025-08-01/
LOCATION:Lost Valley\, 200 Lost Valley Rd\, Auburn\, ME\, 04210\, United States
CATEGORIES:Brewpub,Trail Run
ATTACH;FMTTYPE=image/png:https://www.lostvalleyski.com/wp-content/uploads/2024/05/Trails-In-The-Valley-v1.png
ORGANIZER;CN="Lost Valley":MAILTO:info@Lostvalleyski.com
END:VEVENT
BEGIN:VEVENT
DTSTART;TZID=America/New_York:20250801T183000
DTEND;TZID=America/New_York:20250801T213000
DTSTAMP:20260420T121409
CREATED:20250422T174307Z
LAST-MODIFIED:20250618T164649Z
UID:10005180-1754073000-1754083800@www.lostvalleyski.com
SUMMARY:Kona Brewing Concert Series at Lost Valley
DESCRIPTION:Come out and play every Friday at Lost Valley in Auburn for the Kona Brewing Summer Concert Series. Outside whenever possible\, join us every Friday Night for free all ages concerts on the Dirigo FCU Stage. Doors Open at 4pm. Music starts at 6:30pm\n\nEnjoy Kona Brewing beers and other favorites\, select cocktails\, ciders and seltzers from the outdoor bar\, plus full bar offerings inside.\nWeekly Rotating Food truck on site each week and sit down dining in Lost Valley’s Pub. See host for inside/outside pub seating.\n\nBring your own lawnchair\, but you can’t bring your own food & beverages. Pets welcome outside on a leash. Event is Rain or Shine….Inside if Rain..Outside if Shine\n\n2025 Band & Food Truck LineupJune 13th Father’s Day Eve Eve w/Skosh -Pinky D’s Poutine TruckJune 20 Dapper Gents -Sum’battus BBQ Food TruckJune 27 Fake Feelings & guests -Boondocks Farm Food TruckJuly 11 Burning Time & friends -Tripp’s Primal Farms Food TruckJuly 18 Camp of Rock\, End of Camp Show -Pinky D’s PoutineJuly 25 Stream Reggae -Jeff’s JamaicanAug 1 Bazinga! Band -Cruzin’ Slice Food TruckAug 8 Incubus Maine -Pinky D’s Poutine TruckAug 15th Ish -Rollin’ in the Dough Food TruckAug 22nd L/A Harley Bike Night -Burnt Ends BBQAug 29 Jumpin’ Willy’s -L/A Taco Food TruckSept 5th Hairy Pie-Cheese the Day Food Truck\n\nAbout our sponsors:\nPresenting Sponsor: Kona Brewing Company was founded by father and son team Cameron Healy and Spoon Khalsa. The pair had a vision to reflect the spirit\, culture\, and beauty of Hawaii in a collection of local island craft beers\, so in 1994 they set out for the Big Island to bring their dream to life. Flash forward to today\, and Kona Brewing has become one of the widely popular craft beer brands in the world.\n\nStage Sponsor: Dirigo Federal Credit Union\, through the teamwork and dedication of its employees and officials\, continually strives to provide the best\, most innovative financial services\, while supporting its members with a commitment to quality\, value\, and personalized service. Dirigo FCU proudly serve the counties of Androscoggin\, Cumberland\, Franklin\, Kennebec\, Knox\, Lincoln\, Oxford\, Sagadahoc\, Somerset\, and York.
URL:https://www.lostvalleyski.com/event/kona-brewing-concert-series-at-lost-valley/2025-08-01/
LOCATION:Lost Valley\, 200 Lost Valley Rd\, Auburn\, ME\, 04210\, United States
CATEGORIES:Brewpub,Family Event,Food Truck,Music/Entertainment
ATTACH;FMTTYPE=image/jpeg:https://www.lostvalleyski.com/wp-content/uploads/2025/04/Summer-Concert-Series-at-Lost-Valley-Auburn-Maine-2025.jpg
ORGANIZER;CN="Lost Valley":MAILTO:info@Lostvalleyski.com
END:VEVENT
BEGIN:VEVENT
DTSTART;TZID=America/New_York:20250801T183000
DTEND;TZID=America/New_York:20250801T213000
DTSTAMP:20260420T121409
CREATED:20250516T173159Z
LAST-MODIFIED:20250516T173159Z
UID:10005283-1754073000-1754083800@www.lostvalleyski.com
SUMMARY:Bazinga Band -Kona Brewing Summer Concert Series
DESCRIPTION:The Kona Brewing Summer Concert Series continues as Bazinga! takes to the Dirigo FCU Stage on Friday\, Augusta 1st at 6:30pm!\n\nCome out and play every Friday at Lost Valley in Auburn for the Kona Brewing Summer Concert Series. Outside whenever possible\, join us every Friday Night for free all ages concerts on the Dirigo FCU Stage. Doors Open at 4pm. Music starts at 6:30pm\nEnjoy Kona Brewing beers and other favorites\, select cocktails\, ciders and seltzers from the outdoor bar\, plus full bar offerings inside.\nWeekly Rotating Food truck on site each week and sit down dining in Lost Valley’s Pub. See host for inside/outside pub seating.\nBring your own lawnchair\, but you can’t bring your own food & beverages. Pets welcome outside on a leash. Event is Rain or Shine….Inside if Rain…Outside if Shine\n\n2025 Band & Food Truck LineupJune 13th Father’s Day Eve Eve w/Skosh -Pinky D’s Poutine TruckJune 20 Fire in the Hole -Sum’battus BBQ Food TruckJune 27 Fake Feelings & guests -Boondocks Farm Food TruckJuly 11 Burning Time & friends -Tripp’s Primal Farms Food TruckJuly 18 Camp of Rock\, End of Camp Show -Pinky D’s PoutineJuly 25 Stream Reggae -Jeff’s JamaicanAug 1 Bazinga! Band -Cruzin’ Slice Food TruckAug 8 Incubus Maine -Pinky D’s Poutine TruckAug 15th Ish -Rollin’ in the Dough Food TruckAug 22nd L/A Harley Bike Night -Burnt Ends BBQAug 29 Jumpin’ Willy’s -L/A Taco Food TruckSept 5th Hairy Pie-Cheese the Day Food Truck\n\nAbout our sponsors:Presenting Sponsor: Kona Brewing Company was founded by father and son team Cameron Healy and Spoon Khalsa. The pair had a vision to reflect the spirit\, culture\, and beauty of Hawaii in a collection of local island craft beers\, so in 1994 they set out for the Big Island to bring their dream to life. Flash forward to today\, and Kona Brewing has become one of the widely popular craft beer brands in the world.\nStage Sponsor: Dirigo Federal Credit Union\, through the teamwork and dedication of its employees and officials\, continually strives to provide the best\, most innovative financial services\, while supporting its members with a commitment to quality\, value\, and personalized service. Dirigo FCU proudly serve the counties of Androscoggin\, Cumberland\, Franklin\, Kennebec\, Knox\, Lincoln\, Oxford\, Sagadahoc\, Somerset\, and York.
URL:https://www.lostvalleyski.com/event/bazinga-band-kona-brewing-summer-concert-series/
LOCATION:Lost Valley\, 200 Lost Valley Rd\, Auburn\, ME\, 04210\, United States
CATEGORIES:Brewpub,Music/Entertainment,Outdoor Concert
ATTACH;FMTTYPE=image/png:https://www.lostvalleyski.com/wp-content/uploads/2025/05/BAZINGA-outdoor-concert-2025.png
ORGANIZER;CN="Lost Valley":MAILTO:info@Lostvalleyski.com
END:VEVENT
BEGIN:VEVENT
DTSTART;TZID=America/New_York:20250802T160000
DTEND;TZID=America/New_York:20250802T210000
DTSTAMP:20260420T121409
CREATED:20250515T130356Z
LAST-MODIFIED:20250515T130356Z
UID:10005276-1754150400-1754168400@www.lostvalleyski.com
SUMMARY:Outdoor Concert -Matt Closson Memorial Phundraiser
DESCRIPTION:Rock out at Lost Valley as Goff Hill Rundown\, Crosshair and members of Farmhouse Project come together to remember Matt Closson with a night of food\, drinks and phundraising to benefit the Matt Closson Memorial Scholarship\n\nBrewpub Opens at 4pm\, Live Music Starts at 6:30pm.\n\n6:30-7:15: Goff Hill Rundown7:30–8:30 Crosshair8:45 Farmhouse Project and friends\n\nAll Ages Event\, Free to Attend. Pets Welcome Outside on a leash. Bring your own lawnchair but you can’t bring your own food or beverages.\n\nThe Matt Closson Memorial Scholarship goes to benefit an Edward Little High Senior and is in memory of Matthew Closson who passed away unexpectedly in 2020. The friends he made\, the students he helped as a teacher\, the music fans he made dance while strumming his guitar\, and of course his family all hold special memories.\nThere will be 50/50’s\, Special Event Shirts for Sale including Ry-Dyes made by Riley Bergeron and other phundrasing activities.
URL:https://www.lostvalleyski.com/event/outdoor-concert-matt-closson-memorial-phundraiser/
LOCATION:Lost Valley\, 200 Lost Valley Rd\, Auburn\, ME\, 04210\, United States
CATEGORIES:Brewpub,Cause,Music/Entertainment
ATTACH;FMTTYPE=image/jpeg:https://www.lostvalleyski.com/wp-content/uploads/2024/07/matty-closson.jpg
ORGANIZER;CN="Lost Valley":MAILTO:info@Lostvalleyski.com
END:VEVENT
END:VCALENDAR