BEGIN:VCALENDAR
VERSION:2.0
PRODID:-//Lost Valley | Ski &amp; Snowboard Area | Auburn, Main - ECPv6.15.20//NONSGML v1.0//EN
CALSCALE:GREGORIAN
METHOD:PUBLISH
X-ORIGINAL-URL:https://www.lostvalleyski.com
X-WR-CALDESC:Events for Lost Valley | Ski &amp; Snowboard Area | Auburn, Main
REFRESH-INTERVAL;VALUE=DURATION:PT1H
X-Robots-Tag:noindex
X-PUBLISHED-TTL:PT1H
BEGIN:VTIMEZONE
TZID:America/New_York
BEGIN:DAYLIGHT
TZOFFSETFROM:-0500
TZOFFSETTO:-0400
TZNAME:EDT
DTSTART:20250309T070000
END:DAYLIGHT
BEGIN:STANDARD
TZOFFSETFROM:-0400
TZOFFSETTO:-0500
TZNAME:EST
DTSTART:20251102T060000
END:STANDARD
BEGIN:DAYLIGHT
TZOFFSETFROM:-0500
TZOFFSETTO:-0400
TZNAME:EDT
DTSTART:20260308T070000
END:DAYLIGHT
BEGIN:STANDARD
TZOFFSETFROM:-0400
TZOFFSETTO:-0500
TZNAME:EST
DTSTART:20261101T060000
END:STANDARD
BEGIN:DAYLIGHT
TZOFFSETFROM:-0500
TZOFFSETTO:-0400
TZNAME:EDT
DTSTART:20270314T070000
END:DAYLIGHT
BEGIN:STANDARD
TZOFFSETFROM:-0400
TZOFFSETTO:-0500
TZNAME:EST
DTSTART:20271107T060000
END:STANDARD
END:VTIMEZONE
BEGIN:VEVENT
DTSTART;TZID=America/New_York:20260626T173000
DTEND;TZID=America/New_York:20260626T203000
DTSTAMP:20260420T190005
CREATED:20260420T200115Z
LAST-MODIFIED:20260420T200115Z
UID:10006544-1782495000-1782505800@www.lostvalleyski.com
SUMMARY:Pinky D's Poutine Food Truck Onsite
DESCRIPTION:Pinky D’s Poutine food Truck joins us onsite at Lost Valley in Auburn for the free Kona Brewing Summer Concert Series. \nOutside whenever possible\, swing out to Lost Valley in Auburn every Friday Night for free all ages concerts on the Dirigo FCU Stage. Doors Open at 4pm. Music starts at 6:30pm. Food Trucks Serving 5:30-8:30 \nEnjoy Liquid Aloha with Kona Big Wave’s easy-drinking\, island refreshment. Plus craft beers\, canned cocktails and other favorites at the outdoor bar\, plus full bar offerings inside. \nRotating Food Truck onsite each week 5:30-8:30 plus Lost Valley’s Brewpub Food. \nFree All ages Concerts. Bring your own lawnchair\, but you can’t bring your own food & beverages. Pets welcome outside on a leash. Event is Rain or Shine….Inside if Rain..Outside if Shine \n2026 Band & Food Truck Lineup\nJune 19th Skosh – L/A Taco Food Truck\nJune 26th Toby McAllister & the Sierra Sounds -Pinky D’s Poutine\nJuly 10 Sierra Harris Band -Tripp’s Farm Food Truck\nJuly 17 The Smith Collab -Sum’Battus BBQ Food Truck\nJuly 24 Closson Memorial Phundraiser w/Farmhouse Project -Pinky D’s Poutine Food Truck\nJuly 31 Incubus (Maine)-Mow’s Munchies Food truck\nAug 7 After Dark Band -Cruzin’ Slice Food Truck\nAug 14th Hairy Pie -Rollin’ in the Dough Food Truck\nAug 21 ISH -L/A Taco Food Truck\nAug 28 Burning Time -Pinky D’s Poutine Food Truck\nSept 4 Hello Newman -Cruzin’ Slice Food Truck \nPresenting Sponsor: Kona Brewing Company was founded by father and son team Cameron Healy and Spoon Khalsa. The pair had a vision to reflect the spirit\, culture\, and beauty of Hawaii in a collection of local island craft beers\, so in 1994 they set out for the Big Island to bring their dream to life. Flash forward to today\, and Kona Brewing has become one of the widely popular craft beer brands in the world. \nStage Sponsor: Dirigo Federal Credit Union\, through the teamwork and dedication of its employees and officials\, continually strives to provide the best\, most innovative financial services\, while supporting its members with a commitment to quality\, value\, and personalized service. Dirigo FCU proudly serve the counties of Androscoggin\, Cumberland\, Franklin\, Kennebec\, Knox\, Lincoln\, Oxford\, Sagadahoc\, Somerset\, and York
URL:https://www.lostvalleyski.com/event/pinky-ds-poutine-food-truck-onsite/2026-06-26/
LOCATION:Lost Valley\, 200 Lost Valley Rd\, Auburn\, ME\, 04210\, United States
CATEGORIES:Brewpub,Food Truck,Music/Entertainment,Outdoor Concert
ATTACH;FMTTYPE=image/jpeg:https://www.lostvalleyski.com/wp-content/uploads/2023/06/Pinky-Ds-food-truck.jpg
ORGANIZER;CN="Lost Valley":MAILTO:info@Lostvalleyski.com
END:VEVENT
BEGIN:VEVENT
DTSTART;TZID=America/New_York:20260724T173000
DTEND;TZID=America/New_York:20260724T203000
DTSTAMP:20260420T190005
CREATED:20260420T200115Z
LAST-MODIFIED:20260420T200115Z
UID:10006545-1784914200-1784925000@www.lostvalleyski.com
SUMMARY:Pinky D's Poutine Food Truck Onsite
DESCRIPTION:Pinky D’s Poutine food Truck joins us onsite at Lost Valley in Auburn for the free Kona Brewing Summer Concert Series. \nOutside whenever possible\, swing out to Lost Valley in Auburn every Friday Night for free all ages concerts on the Dirigo FCU Stage. Doors Open at 4pm. Music starts at 6:30pm. Food Trucks Serving 5:30-8:30 \nEnjoy Liquid Aloha with Kona Big Wave’s easy-drinking\, island refreshment. Plus craft beers\, canned cocktails and other favorites at the outdoor bar\, plus full bar offerings inside. \nRotating Food Truck onsite each week 5:30-8:30 plus Lost Valley’s Brewpub Food. \nFree All ages Concerts. Bring your own lawnchair\, but you can’t bring your own food & beverages. Pets welcome outside on a leash. Event is Rain or Shine….Inside if Rain..Outside if Shine \n2026 Band & Food Truck Lineup\nJune 19th Skosh – L/A Taco Food Truck\nJune 26th Toby McAllister & the Sierra Sounds -Pinky D’s Poutine\nJuly 10 Sierra Harris Band -Tripp’s Farm Food Truck\nJuly 17 The Smith Collab -Sum’Battus BBQ Food Truck\nJuly 24 Closson Memorial Phundraiser w/Farmhouse Project -Pinky D’s Poutine Food Truck\nJuly 31 Incubus (Maine)-Mow’s Munchies Food truck\nAug 7 After Dark Band -Cruzin’ Slice Food Truck\nAug 14th Hairy Pie -Rollin’ in the Dough Food Truck\nAug 21 ISH -L/A Taco Food Truck\nAug 28 Burning Time -Pinky D’s Poutine Food Truck\nSept 4 Hello Newman -Cruzin’ Slice Food Truck \nPresenting Sponsor: Kona Brewing Company was founded by father and son team Cameron Healy and Spoon Khalsa. The pair had a vision to reflect the spirit\, culture\, and beauty of Hawaii in a collection of local island craft beers\, so in 1994 they set out for the Big Island to bring their dream to life. Flash forward to today\, and Kona Brewing has become one of the widely popular craft beer brands in the world. \nStage Sponsor: Dirigo Federal Credit Union\, through the teamwork and dedication of its employees and officials\, continually strives to provide the best\, most innovative financial services\, while supporting its members with a commitment to quality\, value\, and personalized service. Dirigo FCU proudly serve the counties of Androscoggin\, Cumberland\, Franklin\, Kennebec\, Knox\, Lincoln\, Oxford\, Sagadahoc\, Somerset\, and York
URL:https://www.lostvalleyski.com/event/pinky-ds-poutine-food-truck-onsite/2026-07-24/
LOCATION:Lost Valley\, 200 Lost Valley Rd\, Auburn\, ME\, 04210\, United States
CATEGORIES:Brewpub,Food Truck,Music/Entertainment,Outdoor Concert
ATTACH;FMTTYPE=image/jpeg:https://www.lostvalleyski.com/wp-content/uploads/2023/06/Pinky-Ds-food-truck.jpg
ORGANIZER;CN="Lost Valley":MAILTO:info@Lostvalleyski.com
END:VEVENT
BEGIN:VEVENT
DTSTART;TZID=America/New_York:20260828T173000
DTEND;TZID=America/New_York:20260828T203000
DTSTAMP:20260420T190005
CREATED:20260420T200115Z
LAST-MODIFIED:20260420T200115Z
UID:10006546-1787938200-1787949000@www.lostvalleyski.com
SUMMARY:Pinky D's Poutine Food Truck Onsite
DESCRIPTION:Pinky D’s Poutine food Truck joins us onsite at Lost Valley in Auburn for the free Kona Brewing Summer Concert Series. \nOutside whenever possible\, swing out to Lost Valley in Auburn every Friday Night for free all ages concerts on the Dirigo FCU Stage. Doors Open at 4pm. Music starts at 6:30pm. Food Trucks Serving 5:30-8:30 \nEnjoy Liquid Aloha with Kona Big Wave’s easy-drinking\, island refreshment. Plus craft beers\, canned cocktails and other favorites at the outdoor bar\, plus full bar offerings inside. \nRotating Food Truck onsite each week 5:30-8:30 plus Lost Valley’s Brewpub Food. \nFree All ages Concerts. Bring your own lawnchair\, but you can’t bring your own food & beverages. Pets welcome outside on a leash. Event is Rain or Shine….Inside if Rain..Outside if Shine \n2026 Band & Food Truck Lineup\nJune 19th Skosh – L/A Taco Food Truck\nJune 26th Toby McAllister & the Sierra Sounds -Pinky D’s Poutine\nJuly 10 Sierra Harris Band -Tripp’s Farm Food Truck\nJuly 17 The Smith Collab -Sum’Battus BBQ Food Truck\nJuly 24 Closson Memorial Phundraiser w/Farmhouse Project -Pinky D’s Poutine Food Truck\nJuly 31 Incubus (Maine)-Mow’s Munchies Food truck\nAug 7 After Dark Band -Cruzin’ Slice Food Truck\nAug 14th Hairy Pie -Rollin’ in the Dough Food Truck\nAug 21 ISH -L/A Taco Food Truck\nAug 28 Burning Time -Pinky D’s Poutine Food Truck\nSept 4 Hello Newman -Cruzin’ Slice Food Truck \nPresenting Sponsor: Kona Brewing Company was founded by father and son team Cameron Healy and Spoon Khalsa. The pair had a vision to reflect the spirit\, culture\, and beauty of Hawaii in a collection of local island craft beers\, so in 1994 they set out for the Big Island to bring their dream to life. Flash forward to today\, and Kona Brewing has become one of the widely popular craft beer brands in the world. \nStage Sponsor: Dirigo Federal Credit Union\, through the teamwork and dedication of its employees and officials\, continually strives to provide the best\, most innovative financial services\, while supporting its members with a commitment to quality\, value\, and personalized service. Dirigo FCU proudly serve the counties of Androscoggin\, Cumberland\, Franklin\, Kennebec\, Knox\, Lincoln\, Oxford\, Sagadahoc\, Somerset\, and York
URL:https://www.lostvalleyski.com/event/pinky-ds-poutine-food-truck-onsite/2026-08-28/
LOCATION:Lost Valley\, 200 Lost Valley Rd\, Auburn\, ME\, 04210\, United States
CATEGORIES:Brewpub,Food Truck,Music/Entertainment,Outdoor Concert
ATTACH;FMTTYPE=image/jpeg:https://www.lostvalleyski.com/wp-content/uploads/2023/06/Pinky-Ds-food-truck.jpg
ORGANIZER;CN="Lost Valley":MAILTO:info@Lostvalleyski.com
END:VEVENT
END:VCALENDAR