BEGIN:VCALENDAR
VERSION:2.0
PRODID:-//Lost Valley | Ski &amp; Snowboard Area | Auburn, Main - ECPv6.15.20//NONSGML v1.0//EN
CALSCALE:GREGORIAN
METHOD:PUBLISH
X-WR-CALNAME:Lost Valley | Ski &amp; Snowboard Area | Auburn, Main
X-ORIGINAL-URL:https://www.lostvalleyski.com
X-WR-CALDESC:Events for Lost Valley | Ski &amp; Snowboard Area | Auburn, Main
REFRESH-INTERVAL;VALUE=DURATION:PT1H
X-Robots-Tag:noindex
X-PUBLISHED-TTL:PT1H
BEGIN:VTIMEZONE
TZID:America/New_York
BEGIN:DAYLIGHT
TZOFFSETFROM:-0500
TZOFFSETTO:-0400
TZNAME:EDT
DTSTART:20250309T070000
END:DAYLIGHT
BEGIN:STANDARD
TZOFFSETFROM:-0400
TZOFFSETTO:-0500
TZNAME:EST
DTSTART:20251102T060000
END:STANDARD
BEGIN:DAYLIGHT
TZOFFSETFROM:-0500
TZOFFSETTO:-0400
TZNAME:EDT
DTSTART:20260308T070000
END:DAYLIGHT
BEGIN:STANDARD
TZOFFSETFROM:-0400
TZOFFSETTO:-0500
TZNAME:EST
DTSTART:20261101T060000
END:STANDARD
BEGIN:DAYLIGHT
TZOFFSETFROM:-0500
TZOFFSETTO:-0400
TZNAME:EDT
DTSTART:20270314T070000
END:DAYLIGHT
BEGIN:STANDARD
TZOFFSETFROM:-0400
TZOFFSETTO:-0500
TZNAME:EST
DTSTART:20271107T060000
END:STANDARD
END:VTIMEZONE
BEGIN:VEVENT
DTSTART;TZID=America/New_York:20260501T150000
DTEND;TZID=America/New_York:20260501T170000
DTSTAMP:20260421T190611
CREATED:20260421T193512Z
LAST-MODIFIED:20260421T193512Z
UID:10006549-1777647600-1777654800@www.lostvalleyski.com
SUMMARY:Teacher's Night at Lost Valley
DESCRIPTION:Teachers—you made it through another month. Come celebrate the first Friday of the month at Lost Valley’s Brewpub in Auburn starting May 1st!\nOpening early at 3pm!!\nTeacher’s Happy Hour runs from 3 PM to 5 PM:• Half-priced appetizers (excluding nachos) for school employees• Door prize drawing at 5 PM for all school staff\nLive music all afternoon and evening:• Solo acoustic sets from 3:30 PM to 6 PM• Full bands starting at 6:30 PM\nThe brewpub is open to the public from 3 PM to 9 PM\, so bring friends or come unwind with coworkers. Whether you’re wrapping up a long week or just stopping in\, we’ll have the drinks ready and a good atmosphere waiting.\nSee you on the first Friday.
URL:https://www.lostvalleyski.com/event/teachers-night-at-lost-valley/2026-05-01/
LOCATION:Lost Valley\, 200 Lost Valley Rd\, Auburn\, ME\, 04210\, United States
CATEGORIES:Brewpub,Music/Entertainment
ATTACH;FMTTYPE=image/jpeg:https://www.lostvalleyski.com/wp-content/uploads/2022/04/Teacher-awesmeness-1.jpg
ORGANIZER;CN="Lost Valley":MAILTO:info@Lostvalleyski.com
END:VEVENT
BEGIN:VEVENT
DTSTART;TZID=America/New_York:20260605T150000
DTEND;TZID=America/New_York:20260605T170000
DTSTAMP:20260421T190611
CREATED:20260421T193512Z
LAST-MODIFIED:20260421T193512Z
UID:10006550-1780671600-1780678800@www.lostvalleyski.com
SUMMARY:Teacher's Night at Lost Valley
DESCRIPTION:Teachers—you made it through another month. Come celebrate the first Friday of the month at Lost Valley’s Brewpub in Auburn starting May 1st!\nOpening early at 3pm!!\nTeacher’s Happy Hour runs from 3 PM to 5 PM:• Half-priced appetizers (excluding nachos) for school employees• Door prize drawing at 5 PM for all school staff\nLive music all afternoon and evening:• Solo acoustic sets from 3:30 PM to 6 PM• Full bands starting at 6:30 PM\nThe brewpub is open to the public from 3 PM to 9 PM\, so bring friends or come unwind with coworkers. Whether you’re wrapping up a long week or just stopping in\, we’ll have the drinks ready and a good atmosphere waiting.\nSee you on the first Friday.
URL:https://www.lostvalleyski.com/event/teachers-night-at-lost-valley/2026-06-05/
LOCATION:Lost Valley\, 200 Lost Valley Rd\, Auburn\, ME\, 04210\, United States
CATEGORIES:Brewpub,Music/Entertainment
ATTACH;FMTTYPE=image/jpeg:https://www.lostvalleyski.com/wp-content/uploads/2022/04/Teacher-awesmeness-1.jpg
ORGANIZER;CN="Lost Valley":MAILTO:info@Lostvalleyski.com
END:VEVENT
BEGIN:VEVENT
DTSTART;TZID=America/New_York:20260904T150000
DTEND;TZID=America/New_York:20260904T170000
DTSTAMP:20260421T190611
CREATED:20260421T193512Z
LAST-MODIFIED:20260421T193512Z
UID:10006551-1788534000-1788541200@www.lostvalleyski.com
SUMMARY:Teacher's Night at Lost Valley
DESCRIPTION:Teachers—you made it through another month. Come celebrate the first Friday of the month at Lost Valley’s Brewpub in Auburn starting May 1st!\nOpening early at 3pm!!\nTeacher’s Happy Hour runs from 3 PM to 5 PM:• Half-priced appetizers (excluding nachos) for school employees• Door prize drawing at 5 PM for all school staff\nLive music all afternoon and evening:• Solo acoustic sets from 3:30 PM to 6 PM• Full bands starting at 6:30 PM\nThe brewpub is open to the public from 3 PM to 9 PM\, so bring friends or come unwind with coworkers. Whether you’re wrapping up a long week or just stopping in\, we’ll have the drinks ready and a good atmosphere waiting.\nSee you on the first Friday.
URL:https://www.lostvalleyski.com/event/teachers-night-at-lost-valley/2026-09-04/
LOCATION:Lost Valley\, 200 Lost Valley Rd\, Auburn\, ME\, 04210\, United States
CATEGORIES:Brewpub,Music/Entertainment
ATTACH;FMTTYPE=image/jpeg:https://www.lostvalleyski.com/wp-content/uploads/2022/04/Teacher-awesmeness-1.jpg
ORGANIZER;CN="Lost Valley":MAILTO:info@Lostvalleyski.com
END:VEVENT
BEGIN:VEVENT
DTSTART;TZID=America/New_York:20261002T150000
DTEND;TZID=America/New_York:20261002T170000
DTSTAMP:20260421T190611
CREATED:20260421T193512Z
LAST-MODIFIED:20260421T193512Z
UID:10006552-1790953200-1790960400@www.lostvalleyski.com
SUMMARY:Teacher's Night at Lost Valley
DESCRIPTION:Teachers—you made it through another month. Come celebrate the first Friday of the month at Lost Valley’s Brewpub in Auburn starting May 1st!\nOpening early at 3pm!!\nTeacher’s Happy Hour runs from 3 PM to 5 PM:• Half-priced appetizers (excluding nachos) for school employees• Door prize drawing at 5 PM for all school staff\nLive music all afternoon and evening:• Solo acoustic sets from 3:30 PM to 6 PM• Full bands starting at 6:30 PM\nThe brewpub is open to the public from 3 PM to 9 PM\, so bring friends or come unwind with coworkers. Whether you’re wrapping up a long week or just stopping in\, we’ll have the drinks ready and a good atmosphere waiting.\nSee you on the first Friday.
URL:https://www.lostvalleyski.com/event/teachers-night-at-lost-valley/2026-10-02/
LOCATION:Lost Valley\, 200 Lost Valley Rd\, Auburn\, ME\, 04210\, United States
CATEGORIES:Brewpub,Music/Entertainment
ATTACH;FMTTYPE=image/jpeg:https://www.lostvalleyski.com/wp-content/uploads/2022/04/Teacher-awesmeness-1.jpg
ORGANIZER;CN="Lost Valley":MAILTO:info@Lostvalleyski.com
END:VEVENT
BEGIN:VEVENT
DTSTART;TZID=America/New_York:20261107T150000
DTEND;TZID=America/New_York:20261107T170000
DTSTAMP:20260421T190611
CREATED:20260421T193512Z
LAST-MODIFIED:20260421T193512Z
UID:10006553-1794063600-1794070800@www.lostvalleyski.com
SUMMARY:Teacher's Night at Lost Valley
DESCRIPTION:Teachers—you made it through another month. Come celebrate the first Friday of the month at Lost Valley’s Brewpub in Auburn starting May 1st!\nOpening early at 3pm!!\nTeacher’s Happy Hour runs from 3 PM to 5 PM:• Half-priced appetizers (excluding nachos) for school employees• Door prize drawing at 5 PM for all school staff\nLive music all afternoon and evening:• Solo acoustic sets from 3:30 PM to 6 PM• Full bands starting at 6:30 PM\nThe brewpub is open to the public from 3 PM to 9 PM\, so bring friends or come unwind with coworkers. Whether you’re wrapping up a long week or just stopping in\, we’ll have the drinks ready and a good atmosphere waiting.\nSee you on the first Friday.
URL:https://www.lostvalleyski.com/event/teachers-night-at-lost-valley/2026-11-07/
LOCATION:Lost Valley\, 200 Lost Valley Rd\, Auburn\, ME\, 04210\, United States
CATEGORIES:Brewpub,Music/Entertainment
ATTACH;FMTTYPE=image/jpeg:https://www.lostvalleyski.com/wp-content/uploads/2022/04/Teacher-awesmeness-1.jpg
ORGANIZER;CN="Lost Valley":MAILTO:info@Lostvalleyski.com
END:VEVENT
END:VCALENDAR