BEGIN:VCALENDAR
VERSION:2.0
PRODID:-//Lost Valley | Ski &amp; Snowboard Area | Auburn, Main - ECPv6.15.20//NONSGML v1.0//EN
CALSCALE:GREGORIAN
METHOD:PUBLISH
X-WR-CALNAME:Lost Valley | Ski &amp; Snowboard Area | Auburn, Main
X-ORIGINAL-URL:https://www.lostvalleyski.com
X-WR-CALDESC:Events for Lost Valley | Ski &amp; Snowboard Area | Auburn, Main
REFRESH-INTERVAL;VALUE=DURATION:PT1H
X-Robots-Tag:noindex
X-PUBLISHED-TTL:PT1H
BEGIN:VTIMEZONE
TZID:America/New_York
BEGIN:DAYLIGHT
TZOFFSETFROM:-0500
TZOFFSETTO:-0400
TZNAME:EDT
DTSTART:20240310T070000
END:DAYLIGHT
BEGIN:STANDARD
TZOFFSETFROM:-0400
TZOFFSETTO:-0500
TZNAME:EST
DTSTART:20241103T060000
END:STANDARD
BEGIN:DAYLIGHT
TZOFFSETFROM:-0500
TZOFFSETTO:-0400
TZNAME:EDT
DTSTART:20250309T070000
END:DAYLIGHT
BEGIN:STANDARD
TZOFFSETFROM:-0400
TZOFFSETTO:-0500
TZNAME:EST
DTSTART:20251102T060000
END:STANDARD
BEGIN:DAYLIGHT
TZOFFSETFROM:-0500
TZOFFSETTO:-0400
TZNAME:EDT
DTSTART:20260308T070000
END:DAYLIGHT
BEGIN:STANDARD
TZOFFSETFROM:-0400
TZOFFSETTO:-0500
TZNAME:EST
DTSTART:20261101T060000
END:STANDARD
END:VTIMEZONE
BEGIN:VEVENT
DTSTART;TZID=America/New_York:20250111T070000
DTEND;TZID=America/New_York:20250111T150000
DTSTAMP:20260419T140455
CREATED:20241228T143124Z
LAST-MODIFIED:20241228T143124Z
UID:10004470-1736578800-1736607600@www.lostvalleyski.com
SUMMARY:2025 Vertical Challenge at Lost Valley
DESCRIPTION:Free amateur ski and snowboard race series. Lift ticket or Season Pass required. Lots of games and prizes. Music and free product samples. Join us in a day of fun!\ \nRegister for Free online at https://skiracing.nastar.com/index.jsp?pagename=register  \n7:30am-11am Registration Open \n9am-2:30pm Sponsor Village Open \n11am-1pm Race Course Open \n2:30pm Vertical Victory party & Awards \n 
URL:https://www.lostvalleyski.com/event/2025-vertical-challenge-at-lost-valley/
LOCATION:Lost Valley\, 200 Lost Valley Rd\, Auburn\, ME\, 04210\, United States
CATEGORIES:Racing,Ski & Snowboard
ATTACH;FMTTYPE=image/jpeg:https://www.lostvalleyski.com/wp-content/uploads/2024/12/vertical-challenge-logo.jpg
ORGANIZER;CN="Lost Valley":MAILTO:info@Lostvalleyski.com
END:VEVENT
END:VCALENDAR