BEGIN:VCALENDAR
VERSION:2.0
PRODID:-//Lost Valley | Ski &amp; Snowboard Area | Auburn, Main - ECPv6.15.20//NONSGML v1.0//EN
CALSCALE:GREGORIAN
METHOD:PUBLISH
X-WR-CALNAME:Lost Valley | Ski &amp; Snowboard Area | Auburn, Main
X-ORIGINAL-URL:https://www.lostvalleyski.com
X-WR-CALDESC:Events for Lost Valley | Ski &amp; Snowboard Area | Auburn, Main
REFRESH-INTERVAL;VALUE=DURATION:PT1H
X-Robots-Tag:noindex
X-PUBLISHED-TTL:PT1H
BEGIN:VTIMEZONE
TZID:America/New_York
BEGIN:DAYLIGHT
TZOFFSETFROM:-0500
TZOFFSETTO:-0400
TZNAME:EDT
DTSTART:20240310T070000
END:DAYLIGHT
BEGIN:STANDARD
TZOFFSETFROM:-0400
TZOFFSETTO:-0500
TZNAME:EST
DTSTART:20241103T060000
END:STANDARD
BEGIN:DAYLIGHT
TZOFFSETFROM:-0500
TZOFFSETTO:-0400
TZNAME:EDT
DTSTART:20250309T070000
END:DAYLIGHT
BEGIN:STANDARD
TZOFFSETFROM:-0400
TZOFFSETTO:-0500
TZNAME:EST
DTSTART:20251102T060000
END:STANDARD
BEGIN:DAYLIGHT
TZOFFSETFROM:-0500
TZOFFSETTO:-0400
TZNAME:EDT
DTSTART:20260308T070000
END:DAYLIGHT
BEGIN:STANDARD
TZOFFSETFROM:-0400
TZOFFSETTO:-0500
TZNAME:EST
DTSTART:20261101T060000
END:STANDARD
END:VTIMEZONE
BEGIN:VEVENT
DTSTART;TZID=America/New_York:20250204T150000
DTEND;TZID=America/New_York:20250204T200000
DTSTAMP:20260421T042735
CREATED:20241210T151556Z
LAST-MODIFIED:20250128T232932Z
UID:10004492-1738681200-1738699200@www.lostvalleyski.com
SUMMARY:L.L.Bean $20 Tuesday Lift Tix at Lost Valley
DESCRIPTION: Tuesday Nights Just Got Better at Lost Valley! \nThanks to L.L.Bean\, Tuesday evenings from 3 PM to 8 PM are your ticket to affordable outdoor fun! From January 7th to March 11th (excluding February 18th)\, enjoy all-evening lift tickets for just $20 for all ages. Kids 5 & under are only $10 anytime Lost Valley is open!\nWhether you’re carving down the slopes with friends or enjoying a family night out\, this is the perfect chance to embrace the Maine outdoors. Be an Outsider\, hit the slopes\, and make some memories!\n Get Your TicketsGrab your tickets in person or online: at https://lostvalleyski.ltibooking.com/…/lost-valley…\n Don’t miss out—Come out and play at Lost Valley!
URL:https://www.lostvalleyski.com/event/l-l-bean-20-tuesday-lift-tix-at-lost-valley/2025-02-04/
LOCATION:Lost Valley\, 200 Lost Valley Rd\, Auburn\, ME\, 04210\, United States
CATEGORIES:Family Event,Ski & Snowboard
ATTACH;FMTTYPE=image/jpeg:https://www.lostvalleyski.com/wp-content/uploads/2020/12/ll-bean-family-ski-night-square-1.jpg
ORGANIZER;CN="Lost Valley":MAILTO:info@Lostvalleyski.com
END:VEVENT
BEGIN:VEVENT
DTSTART;TZID=America/New_York:20250206T180000
DTEND;TZID=America/New_York:20250206T210000
DTSTAMP:20260421T042735
CREATED:20241210T145519Z
LAST-MODIFIED:20241230T152117Z
UID:10004440-1738864800-1738875600@www.lostvalleyski.com
SUMMARY:Baxter Brewing 21+ Race League at Lost Valley
DESCRIPTION: Get Ready to Race! The 2025 Baxter Brewing Race League is calling all skiers\, snowboarders\, and telemarkers aged 21+ for an unforgettable season of fun and competition! Every Thursday Jan 2nd-Mar13th at Lost Valley in Auburn (Except Feb. 20th)\nRace Lanes Open 6:00p-7:45p\n What’s in Store: Teams: 20-person corporate teams Course: Modified Giant Slalom Weekly Highlights:\nAppetizers: After-race buffet opens at 7:30 PM (show raffle ticket)Prizes: Weekly raffle winners announced at 8:30 PM in the LoungeMusic: Live tunes every race night\, 6:30 PM – 9:30 PMResults: Posted weekly by 9:00 PM End-of-Season Party: Celebrate with awards\, great company\, and more!\n Join or Start a Team:Email Race Director Scott Berube at scb684@icloud.com Call/Text: (207) 333-9351\n The Most Fun You Can Legally Have on Snow! 
URL:https://www.lostvalleyski.com/event/baxter-brewing-21-race-league-at-lost-valley/2025-02-06/
LOCATION:Lost Valley\, 200 Lost Valley Rd\, Auburn\, ME\, 04210\, United States
CATEGORIES:Music/Entertainment,Racing,Ski & Snowboard
ATTACH;FMTTYPE=image/jpeg:https://www.lostvalleyski.com/wp-content/uploads/2024/12/race-league-fb-image-20_21.jpg
ORGANIZER;CN="Lost Valley":MAILTO:info@Lostvalleyski.com
END:VEVENT
BEGIN:VEVENT
DTSTART;TZID=America/New_York:20250206T183000
DTEND;TZID=America/New_York:20250206T213000
DTSTAMP:20260421T042735
CREATED:20241222T134149Z
LAST-MODIFIED:20241222T134149Z
UID:10004468-1738866600-1738877400@www.lostvalleyski.com
SUMMARY:Xander Nelson -Solo in the Pub
DESCRIPTION:Xander Nelson plays solo in the pub area at Lost Valley in Auburn 6:30-9:30 as part of the Weekly Baxter Brewing Race League festivities. Brewpub Open until 9:30 (Kitchen closes at 8:30)
URL:https://www.lostvalleyski.com/event/xander-nelson-solo-in-the-pub/
LOCATION:Lost Valley\, 200 Lost Valley Rd\, Auburn\, ME\, 04210\, United States
CATEGORIES:Brewpub,Music/Entertainment
ATTACH;FMTTYPE=image/jpeg:https://www.lostvalleyski.com/wp-content/uploads/2024/03/Xander-Nelson.jpg
ORGANIZER;CN="Lost Valley":MAILTO:info@Lostvalleyski.com
END:VEVENT
BEGIN:VEVENT
DTSTART;TZID=America/New_York:20250208T133000
DTEND;TZID=America/New_York:20250208T163000
DTSTAMP:20260421T042735
CREATED:20250101T181654Z
LAST-MODIFIED:20250101T181654Z
UID:10004472-1739021400-1739032200@www.lostvalleyski.com
SUMMARY:Steven Moore Apres Ski Music
DESCRIPTION:Enjoy live music in between runs or after a day of skiing as Steven Moore performs solo in the brewpub area. 1:30pm-4:30pm.
URL:https://www.lostvalleyski.com/event/steven-moore-apres-ski-music/
LOCATION:Lost Valley\, 200 Lost Valley Rd\, Auburn\, ME\, 04210\, United States
CATEGORIES:Brewpub,Music/Entertainment
ATTACH;FMTTYPE=image/jpeg:https://www.lostvalleyski.com/wp-content/uploads/2024/05/steven-moore-edit.jpg
ORGANIZER;CN="Lost Valley":MAILTO:info@Lostvalleyski.com
END:VEVENT
BEGIN:VEVENT
DTSTART;TZID=America/New_York:20250209T120000
DTEND;TZID=America/New_York:20250209T150000
DTSTAMP:20260421T042735
CREATED:20241212T155835Z
LAST-MODIFIED:20250215T185826Z
UID:10004460-1739102400-1739113200@www.lostvalleyski.com
SUMMARY:Patron's Oxford Sunday Race Series at Lost Valley
DESCRIPTION:Join the Patrons Oxford Sunday Race Series at Lost Valley!\nWhat: A fun\, all-ages GS-format downhill community race for skiers and snowboarders. Drop in any week or compete in 4 or more races to qualify for end-of-series prizes in your division! \nWhen: Sundays at 12:00 PM\, starting January 5th \n\n8 races total\nBest 4 results count toward series championships\n\nWho Can Race? \n\nSkiers: 6U\, 7-9\, 10-12\, 13-14\, 15-17\, 18+\nSnowboarders: 13U\, 14+\n\nRace Day Schedule:\n\nRegistration (Bib Pick-Up): 10:30-11:30 AM\nCourse Inspection: 11:30 AM-12:00 PM\nRace Start: 12:00 PM (youngest racers first or skip to the front of the line)\nFormat: Two runs\, fastest single run counts\n\nAwards & Prizes:\n\nWeekly recognition for class winners\nUpdated series standings each week\nWeekly raffles with prizes from sponsors (sports gear\, restaurant gift cards\, lift tickets\, ski supplies\, and more!)\nSeries Trophies: Awarded to the top 3 in each class\n\nRace Schedule (12:00 Start Time):\n\nJan 5 – Race 1\nJan 12 – Race 2\nJan 19 – Race 3\nJan 26 & Feb 2: No races (JP Races)\nFeb 9 – Race 4\nFeb 16 – Cancelled\nFeb 23 – Race 6\nMar 2 – Race 7\nMar 9 – Race 8 (Final Race)\n\nPricing:\n\nNon-Passholders: $40 (includes lift ticket for 12:00-4:00 PM and race fee)\nPassholders: $15 race fee\n\nContact:\nRace Director Scott B \n\nCall/Text: 207-333-9351\nEmail: scb684@icloud.com
URL:https://www.lostvalleyski.com/event/patrons-oxford-sunday-race-series-at-lost-valley/2025-02-09/
LOCATION:Lost Valley\, 200 Lost Valley Rd\, Auburn\, ME\, 04210\, United States
CATEGORIES:Family Event,Racing,Ski & Snowboard
ATTACH;FMTTYPE=image/png:https://www.lostvalleyski.com/wp-content/uploads/2024/12/Patrons-oxford-promo-2025-series.png
ORGANIZER;CN="Lost Valley":MAILTO:info@Lostvalleyski.com
END:VEVENT
BEGIN:VEVENT
DTSTART;TZID=America/New_York:20250211T150000
DTEND;TZID=America/New_York:20250211T200000
DTSTAMP:20260421T042735
CREATED:20241210T151556Z
LAST-MODIFIED:20250128T232932Z
UID:10004493-1739286000-1739304000@www.lostvalleyski.com
SUMMARY:L.L.Bean $20 Tuesday Lift Tix at Lost Valley
DESCRIPTION: Tuesday Nights Just Got Better at Lost Valley! \nThanks to L.L.Bean\, Tuesday evenings from 3 PM to 8 PM are your ticket to affordable outdoor fun! From January 7th to March 11th (excluding February 18th)\, enjoy all-evening lift tickets for just $20 for all ages. Kids 5 & under are only $10 anytime Lost Valley is open!\nWhether you’re carving down the slopes with friends or enjoying a family night out\, this is the perfect chance to embrace the Maine outdoors. Be an Outsider\, hit the slopes\, and make some memories!\n Get Your TicketsGrab your tickets in person or online: at https://lostvalleyski.ltibooking.com/…/lost-valley…\n Don’t miss out—Come out and play at Lost Valley!
URL:https://www.lostvalleyski.com/event/l-l-bean-20-tuesday-lift-tix-at-lost-valley/2025-02-11/
LOCATION:Lost Valley\, 200 Lost Valley Rd\, Auburn\, ME\, 04210\, United States
CATEGORIES:Family Event,Ski & Snowboard
ATTACH;FMTTYPE=image/jpeg:https://www.lostvalleyski.com/wp-content/uploads/2020/12/ll-bean-family-ski-night-square-1.jpg
ORGANIZER;CN="Lost Valley":MAILTO:info@Lostvalleyski.com
END:VEVENT
BEGIN:VEVENT
DTSTART;TZID=America/New_York:20250213T180000
DTEND;TZID=America/New_York:20250213T210000
DTSTAMP:20260421T042735
CREATED:20241210T145519Z
LAST-MODIFIED:20241230T152117Z
UID:10004441-1739469600-1739480400@www.lostvalleyski.com
SUMMARY:Baxter Brewing 21+ Race League at Lost Valley
DESCRIPTION: Get Ready to Race! The 2025 Baxter Brewing Race League is calling all skiers\, snowboarders\, and telemarkers aged 21+ for an unforgettable season of fun and competition! Every Thursday Jan 2nd-Mar13th at Lost Valley in Auburn (Except Feb. 20th)\nRace Lanes Open 6:00p-7:45p\n What’s in Store: Teams: 20-person corporate teams Course: Modified Giant Slalom Weekly Highlights:\nAppetizers: After-race buffet opens at 7:30 PM (show raffle ticket)Prizes: Weekly raffle winners announced at 8:30 PM in the LoungeMusic: Live tunes every race night\, 6:30 PM – 9:30 PMResults: Posted weekly by 9:00 PM End-of-Season Party: Celebrate with awards\, great company\, and more!\n Join or Start a Team:Email Race Director Scott Berube at scb684@icloud.com Call/Text: (207) 333-9351\n The Most Fun You Can Legally Have on Snow! 
URL:https://www.lostvalleyski.com/event/baxter-brewing-21-race-league-at-lost-valley/2025-02-13/
LOCATION:Lost Valley\, 200 Lost Valley Rd\, Auburn\, ME\, 04210\, United States
CATEGORIES:Music/Entertainment,Racing,Ski & Snowboard
ATTACH;FMTTYPE=image/jpeg:https://www.lostvalleyski.com/wp-content/uploads/2024/12/race-league-fb-image-20_21.jpg
ORGANIZER;CN="Lost Valley":MAILTO:info@Lostvalleyski.com
END:VEVENT
BEGIN:VEVENT
DTSTART;TZID=America/New_York:20250215T170000
DTEND;TZID=America/New_York:20250215T200000
DTSTAMP:20260421T042735
CREATED:20250212T235240Z
LAST-MODIFIED:20250212T235514Z
UID:10004868-1739638800-1739649600@www.lostvalleyski.com
SUMMARY:Brent and the Burn Permits -Live in the Brewpub
DESCRIPTION:Brent and the Burn permits play live at Lost Valley’s Brewpub. Ski Area will be closed but lodge and brewpub open for grab and go food\, full bar and live music from brent and the Burn Permits. Kitchen closes at 9pm. U.S. Ice Cross head to head finals starts at 6:30pm on Squirel Run and is free to attend.
URL:https://www.lostvalleyski.com/event/brent-and-the-burn-permits-live-in-the-brewpub/
LOCATION:Lost Valley\, 200 Lost Valley Rd\, Auburn\, ME\, 04210\, United States
CATEGORIES:Brewpub,Music/Entertainment
ATTACH;FMTTYPE=image/png:https://www.lostvalleyski.com/wp-content/uploads/2025/02/Brent-and-the-burn-permits.png
ORGANIZER;CN="Lost Valley":MAILTO:info@Lostvalleyski.com
END:VEVENT
BEGIN:VEVENT
DTSTART;TZID=America/New_York:20250218T130000
DTEND;TZID=America/New_York:20250218T150000
DTSTAMP:20260421T042735
CREATED:20250216T135954Z
LAST-MODIFIED:20250216T135956Z
UID:10004480-1739883600-1739890800@www.lostvalleyski.com
SUMMARY:King of the Valley Freestyle Competition\, presented by Backwoods
DESCRIPTION:King of the Valley Freestyle Ski & Snowboard Competition\nEvery Sunday at 1:00 PM \nGet ready for some epic action every Sunday at Lost Valley! Whether you’re a skier or snowboarder\, show off your skills at the King of the Valley Freestyle Competition. This thrilling event kicks off at 1:00 PM\, but make sure to sign up at the ticket counter by 12:45 PM to secure your spot. \nCompetition Locations Rotate Between: \n\nPine Grove Park\nUpper Bear Park\nLower Bear Park\n\nDetails: \n\nComp Fee: $10\nLift Ticket or Pass Required\nWaiver must be signed by a parent or guardian for competitors under 18.\n\nClick Here to View/Print Waiver \nCome for the fun\, stay for the glory – it’s your chance to be crowned King of the Valley!
URL:https://www.lostvalleyski.com/event/king-of-the-valley-freestyle-competition-presented-by-backwoods-2/
LOCATION:Lost Valley\, 200 Lost Valley Rd\, Auburn\, ME\, 04210\, United States
CATEGORIES:Rail Jam,Ski & Snowboard,Slopestyle
ATTACH;FMTTYPE=image/jpeg:https://www.lostvalleyski.com/wp-content/uploads/2020/11/King-of-the-Valley-2021-fb-1-1.jpg
ORGANIZER;CN="Lost Valley":MAILTO:info@Lostvalleyski.com
END:VEVENT
BEGIN:VEVENT
DTSTART;TZID=America/New_York:20250218T173000
DTEND;TZID=America/New_York:20250218T213000
DTSTAMP:20260421T042735
CREATED:20241221T003730Z
LAST-MODIFIED:20241221T003730Z
UID:10004465-1739899800-1739914200@www.lostvalleyski.com
SUMMARY:Comedian Bob Marley Live at Lost Valley
DESCRIPTION:Comedian Bob Marley performs at Lost Valley on Tuesday\, February 18th.\nBrewpub open before and during the show for food and drinks. There is no food service in the show area as it is theater style seating\, but there is a bar serving that area for beverages.\nThis event always sell out\, so get your tickets online while you still can! and Tickets are available online at bmarley.com. Lost Valley DOES NOT sell tickets to this event
URL:https://www.lostvalleyski.com/event/comedian-bob-marley-live-at-lost-valley/
LOCATION:Lost Valley\, 200 Lost Valley Rd\, Auburn\, ME\, 04210\, United States
CATEGORIES:Brewpub,Comedy,Music/Entertainment
ATTACH;FMTTYPE=image/jpeg:https://www.lostvalleyski.com/wp-content/uploads/2021/07/bob-marley-1.jpg
ORGANIZER;CN="Lost Valley":MAILTO:info@Lostvalleyski.com
END:VEVENT
BEGIN:VEVENT
DTSTART;TZID=America/New_York:20250220T133000
DTEND;TZID=America/New_York:20250220T163000
DTSTAMP:20260421T042735
CREATED:20250219T122344Z
LAST-MODIFIED:20250220T124143Z
UID:10004869-1740058200-1740069000@www.lostvalleyski.com
SUMMARY:Apres Ski with Brad Hooper
DESCRIPTION:Brad Hooper plays solo Thursday Feb 20th 1:30p-4:30p in the brewpub area at Lost Valley during February Break for Apres Ski Vibes and great music. Ski Area Open Daily 9am-4pm Now-Feb 23rd\, regular hours resume Feb 24
URL:https://www.lostvalleyski.com/event/apres-ski-with-brad-hooper/
LOCATION:Lost Valley\, 200 Lost Valley Rd\, Auburn\, ME\, 04210\, United States
CATEGORIES:Brewpub,Music/Entertainment
ATTACH;FMTTYPE=image/jpeg:https://www.lostvalleyski.com/wp-content/uploads/2024/05/Brad-Hooper.jpg
ORGANIZER;CN="Lost Valley":MAILTO:info@Lostvalleyski.com
END:VEVENT
BEGIN:VEVENT
DTSTART;TZID=America/New_York:20250221T080000
DTEND;TZID=America/New_York:20250221T170000
DTSTAMP:20260421T042735
CREATED:20250221T151424Z
LAST-MODIFIED:20250221T151424Z
UID:10004872-1740124800-1740157200@www.lostvalleyski.com
SUMMARY:Maine-ia X Nordic Festival
DESCRIPTION:Sunday\, March 23\, 2025\nLOCATION: \nLost Valley Ski Area\n200 Lost Valley Road\nAuburn\, ME\nDriving Directions\nRESULTS\nregister here\nStart Times & Distances \n8:30 AM: Registration and bib pick up opens \n10:00 AM: Qualification for all participants \nROUNDS AND FINALS ANNOUNCED on 3/22. \nFOOD AND DRINK AT LOST VALLEY BREW PUB\nNonstop Nordic and Lost Valley have teamed up to host an end of season Nordic Festival with a sprint competition. Think of a populer energy drink event\, but better! The course will be a drag race to the top of a terrain park that is followed by a fast flowy ride down banked s-turns\, drops\, and rollers. You will not need to catch a ride through the air\, but you will not confuse this with a ski on a golf course. The event will be held at Lost Valley ski area on a terrain park converted for our racing pleasure. So plenty of snow and fun to be had. \nThe day begins with a qualifying round at 10am. Every competitor will move on to the quarterfinals in his/her category bracket. Top two finishers from each heat will move on to the next round. If you are not among the top two in the heat\, you will be placed into a different bracket and continue to compete. All skiers will get a minimum of three rides around the course. (Once during qualifying and twice during heat format rounds). Those making the Maineia-X Finals will get four runs of bliss in their pursuit of greatness. The format and categories are subject to change and are dependent on participant numbers with the goal of maximizing the fun factor. \nJoin us for a day of extreme sprint competition in a festive atmosphere celebrating skiing! Register online at https://www.webscorer.com/register?raceid=371256
URL:https://www.lostvalleyski.com/event/maine-ia-x-nordic-festival/
LOCATION:Lost Valley\, 200 Lost Valley Rd\, Auburn\, ME\, 04210\, United States
CATEGORIES:Brewpub,Nordic/Cross Country Skiing
ATTACH;FMTTYPE=image/jpeg:https://www.lostvalleyski.com/wp-content/uploads/2025/02/nonstop-nordic.jpg
ORGANIZER;CN="Lost Valley":MAILTO:info@Lostvalleyski.com
END:VEVENT
BEGIN:VEVENT
DTSTART;TZID=America/New_York:20250221T133000
DTEND;TZID=America/New_York:20250221T163000
DTSTAMP:20260421T042735
CREATED:20250220T124010Z
LAST-MODIFIED:20250220T124103Z
UID:10004870-1740144600-1740155400@www.lostvalleyski.com
SUMMARY:Apres SKi Music with Shelly Coombs
DESCRIPTION:Shelly Coombs plays solo Friday Feb 21st 1:30p-4:30p in the brewpub area at Lost Valley during February Break for Apres Ski Vibes and great music.\nSki Area Open Daily 9am-4pm Now-Feb 23rd\, regular hours resume Feb 24
URL:https://www.lostvalleyski.com/event/apres-ski-music-with-shelly-coombs/
LOCATION:Lost Valley\, 200 Lost Valley Rd\, Auburn\, ME\, 04210\, United States
CATEGORIES:Brewpub,Music/Entertainment
ATTACH;FMTTYPE=image/jpeg:https://www.lostvalleyski.com/wp-content/uploads/2023/05/shelly-coombs.jpg
ORGANIZER;CN="Lost Valley":MAILTO:info@Lostvalleyski.com
END:VEVENT
BEGIN:VEVENT
DTSTART;TZID=America/New_York:20250222T080000
DTEND;TZID=America/New_York:20250222T130000
DTSTAMP:20260421T042735
CREATED:20250204T204945Z
LAST-MODIFIED:20250204T204945Z
UID:10004497-1740211200-1740229200@www.lostvalleyski.com
SUMMARY:The Fastest Runner Sledder in the Valley
DESCRIPTION:The Fastest Runner Sledder in the Valley in conjunction with the New England Runner Sled Association. \nCourse is on Squirrel \nSaturday\, February 22nd\, 2025 \n7am-8:30am Check-in/Registration \n845am Racers meeting at the Bottom of lift 2 \n9am Load first chair and practice runs begin 9am-10am \n10am timed runs begin \nRegistration is $40 and includes lift ride to the top\, 1hour of practice runs and 2 timed trial runs. Those who make the time trail cut will then compete in head to head racing. All racers and fun runners must sign a liability waiver day of and anyone under 18 will need a parent or guardian 18+to sign. Sleds must be made of steel and wood to compete. Due to insurance reasons\, we cannot allow spectators on the race course\, but they are permitted at the finish area and base lodge/brewpub area. \nSign up in advance online at https://lostvalleyski.ltibooking.com/purchase-path/product-details/17497 \nFMI Check out the New England Runner Sled Associations on Facebook. \nFMI Check out the New England Runner Sled Associations on Facebook.
URL:https://www.lostvalleyski.com/event/the-fastest-runner-sledder-in-the-valley/
LOCATION:Lost Valley\, 200 Lost Valley Rd\, Auburn\, ME\, 04210\, United States
ATTACH;FMTTYPE=image/jpeg:https://www.lostvalleyski.com/wp-content/uploads/2025/02/LostValley.FastestSledRace.023-scaled.jpg
ORGANIZER;CN="Lost Valley":MAILTO:info@Lostvalleyski.com
END:VEVENT
BEGIN:VEVENT
DTSTART;TZID=America/New_York:20250223T120000
DTEND;TZID=America/New_York:20250223T150000
DTSTAMP:20260421T042735
CREATED:20241212T155835Z
LAST-MODIFIED:20250215T185826Z
UID:10004462-1740312000-1740322800@www.lostvalleyski.com
SUMMARY:Patron's Oxford Sunday Race Series at Lost Valley
DESCRIPTION:Join the Patrons Oxford Sunday Race Series at Lost Valley!\nWhat: A fun\, all-ages GS-format downhill community race for skiers and snowboarders. Drop in any week or compete in 4 or more races to qualify for end-of-series prizes in your division! \nWhen: Sundays at 12:00 PM\, starting January 5th \n\n8 races total\nBest 4 results count toward series championships\n\nWho Can Race? \n\nSkiers: 6U\, 7-9\, 10-12\, 13-14\, 15-17\, 18+\nSnowboarders: 13U\, 14+\n\nRace Day Schedule:\n\nRegistration (Bib Pick-Up): 10:30-11:30 AM\nCourse Inspection: 11:30 AM-12:00 PM\nRace Start: 12:00 PM (youngest racers first or skip to the front of the line)\nFormat: Two runs\, fastest single run counts\n\nAwards & Prizes:\n\nWeekly recognition for class winners\nUpdated series standings each week\nWeekly raffles with prizes from sponsors (sports gear\, restaurant gift cards\, lift tickets\, ski supplies\, and more!)\nSeries Trophies: Awarded to the top 3 in each class\n\nRace Schedule (12:00 Start Time):\n\nJan 5 – Race 1\nJan 12 – Race 2\nJan 19 – Race 3\nJan 26 & Feb 2: No races (JP Races)\nFeb 9 – Race 4\nFeb 16 – Cancelled\nFeb 23 – Race 6\nMar 2 – Race 7\nMar 9 – Race 8 (Final Race)\n\nPricing:\n\nNon-Passholders: $40 (includes lift ticket for 12:00-4:00 PM and race fee)\nPassholders: $15 race fee\n\nContact:\nRace Director Scott B \n\nCall/Text: 207-333-9351\nEmail: scb684@icloud.com
URL:https://www.lostvalleyski.com/event/patrons-oxford-sunday-race-series-at-lost-valley/2025-02-23/
LOCATION:Lost Valley\, 200 Lost Valley Rd\, Auburn\, ME\, 04210\, United States
CATEGORIES:Family Event,Racing,Ski & Snowboard
ATTACH;FMTTYPE=image/png:https://www.lostvalleyski.com/wp-content/uploads/2024/12/Patrons-oxford-promo-2025-series.png
ORGANIZER;CN="Lost Valley":MAILTO:info@Lostvalleyski.com
END:VEVENT
BEGIN:VEVENT
DTSTART;TZID=America/New_York:20250225T150000
DTEND;TZID=America/New_York:20250225T200000
DTSTAMP:20260421T042735
CREATED:20241210T151556Z
LAST-MODIFIED:20250128T232932Z
UID:10004494-1740495600-1740513600@www.lostvalleyski.com
SUMMARY:L.L.Bean $20 Tuesday Lift Tix at Lost Valley
DESCRIPTION: Tuesday Nights Just Got Better at Lost Valley! \nThanks to L.L.Bean\, Tuesday evenings from 3 PM to 8 PM are your ticket to affordable outdoor fun! From January 7th to March 11th (excluding February 18th)\, enjoy all-evening lift tickets for just $20 for all ages. Kids 5 & under are only $10 anytime Lost Valley is open!\nWhether you’re carving down the slopes with friends or enjoying a family night out\, this is the perfect chance to embrace the Maine outdoors. Be an Outsider\, hit the slopes\, and make some memories!\n Get Your TicketsGrab your tickets in person or online: at https://lostvalleyski.ltibooking.com/…/lost-valley…\n Don’t miss out—Come out and play at Lost Valley!
URL:https://www.lostvalleyski.com/event/l-l-bean-20-tuesday-lift-tix-at-lost-valley/2025-02-25/
LOCATION:Lost Valley\, 200 Lost Valley Rd\, Auburn\, ME\, 04210\, United States
CATEGORIES:Family Event,Ski & Snowboard
ATTACH;FMTTYPE=image/jpeg:https://www.lostvalleyski.com/wp-content/uploads/2020/12/ll-bean-family-ski-night-square-1.jpg
ORGANIZER;CN="Lost Valley":MAILTO:info@Lostvalleyski.com
END:VEVENT
BEGIN:VEVENT
DTSTART;TZID=America/New_York:20250227T180000
DTEND;TZID=America/New_York:20250227T210000
DTSTAMP:20260421T042735
CREATED:20241210T145519Z
LAST-MODIFIED:20241230T152117Z
UID:10004442-1740679200-1740690000@www.lostvalleyski.com
SUMMARY:Baxter Brewing 21+ Race League at Lost Valley
DESCRIPTION: Get Ready to Race! The 2025 Baxter Brewing Race League is calling all skiers\, snowboarders\, and telemarkers aged 21+ for an unforgettable season of fun and competition! Every Thursday Jan 2nd-Mar13th at Lost Valley in Auburn (Except Feb. 20th)\nRace Lanes Open 6:00p-7:45p\n What’s in Store: Teams: 20-person corporate teams Course: Modified Giant Slalom Weekly Highlights:\nAppetizers: After-race buffet opens at 7:30 PM (show raffle ticket)Prizes: Weekly raffle winners announced at 8:30 PM in the LoungeMusic: Live tunes every race night\, 6:30 PM – 9:30 PMResults: Posted weekly by 9:00 PM End-of-Season Party: Celebrate with awards\, great company\, and more!\n Join or Start a Team:Email Race Director Scott Berube at scb684@icloud.com Call/Text: (207) 333-9351\n The Most Fun You Can Legally Have on Snow! 
URL:https://www.lostvalleyski.com/event/baxter-brewing-21-race-league-at-lost-valley/2025-02-27/
LOCATION:Lost Valley\, 200 Lost Valley Rd\, Auburn\, ME\, 04210\, United States
CATEGORIES:Music/Entertainment,Racing,Ski & Snowboard
ATTACH;FMTTYPE=image/jpeg:https://www.lostvalleyski.com/wp-content/uploads/2024/12/race-league-fb-image-20_21.jpg
ORGANIZER;CN="Lost Valley":MAILTO:info@Lostvalleyski.com
END:VEVENT
BEGIN:VEVENT
DTSTART;TZID=America/New_York:20250227T183000
DTEND;TZID=America/New_York:20250227T213000
DTSTAMP:20260421T042735
CREATED:20250101T182106Z
LAST-MODIFIED:20250101T182106Z
UID:10004473-1740681000-1740691800@www.lostvalleyski.com
SUMMARY:Brad Hooper live in the Lounge
DESCRIPTION:Brad Hooper plays solo in the pub area at Lost Valley in Auburn 6:30-9:30. Kitchen closes at 8:00
URL:https://www.lostvalleyski.com/event/brad-hooper-live-in-the-lounge/
LOCATION:Lost Valley\, 200 Lost Valley Rd\, Auburn\, ME\, 04210\, United States
CATEGORIES:Brewpub,Music/Entertainment
ATTACH;FMTTYPE=image/jpeg:https://www.lostvalleyski.com/wp-content/uploads/2024/05/Brad-Hooper.jpg
ORGANIZER;CN="Lost Valley":MAILTO:info@Lostvalleyski.com
END:VEVENT
BEGIN:VEVENT
DTSTART;TZID=America/New_York:20250228T150000
DTEND;TZID=America/New_York:20250228T210000
DTSTAMP:20260421T042735
CREATED:20250207T213307Z
LAST-MODIFIED:20250207T213307Z
UID:10004498-1740754800-1740776400@www.lostvalleyski.com
SUMMARY:Lost Valley Brewing 7th Birthday Party
DESCRIPTION:We are celebrating 7 years of beers this month and we want to throw a party to remember! On Friday the 28th come out to Lost Valley and join in the fun with us. Fanfare! Live music from @AfterDark Birthday Cake! And of course\, BEER!
URL:https://www.lostvalleyski.com/event/lost-valley-brewing-7th-birthday-party/
LOCATION:Lost Valley\, 200 Lost Valley Rd\, Auburn\, ME\, 04210\, United States
CATEGORIES:Beer,Brewpub,Music/Entertainment
ATTACH;FMTTYPE=image/jpeg:https://www.lostvalleyski.com/wp-content/uploads/2025/02/7-year-anniversary-fb-image.jpg
ORGANIZER;CN="Lost Valley":MAILTO:info@Lostvalleyski.com
END:VEVENT
BEGIN:VEVENT
DTSTART;TZID=America/New_York:20250228T160000
DTEND;TZID=America/New_York:20250228T210000
DTSTAMP:20260421T042735
CREATED:20250220T124433Z
LAST-MODIFIED:20250220T124433Z
UID:10004871-1740758400-1740776400@www.lostvalleyski.com
SUMMARY:Lost Valley Brewing 7th Birthday Bash
DESCRIPTION:We are celebrating 7 years of beers this month and we want to throw a party to remember! On Friday the 28th come out to Lost Valley and join in the fun with us. Fanfare! Live music from @AfterDark Birthday Cake! And of course\, BEER!
URL:https://www.lostvalleyski.com/event/lost-valley-brewing-7th-birthday-bash/
LOCATION:Lost Valley\, 200 Lost Valley Rd\, Auburn\, ME\, 04210\, United States
CATEGORIES:Beer,Brewpub,Music/Entertainment
ATTACH;FMTTYPE=image/jpeg:https://www.lostvalleyski.com/wp-content/uploads/2025/02/lvb-7-year.jpg
ORGANIZER;CN="Lost Valley":MAILTO:info@Lostvalleyski.com
END:VEVENT
BEGIN:VEVENT
DTSTART;TZID=America/New_York:20250228T183000
DTEND;TZID=America/New_York:20250228T213000
DTSTAMP:20260421T042735
CREATED:20250224T141528Z
LAST-MODIFIED:20250224T141528Z
UID:10004874-1740767400-1740778200@www.lostvalleyski.com
SUMMARY:After Dark Band -Live at LVB's Birthday Bash
DESCRIPTION:After Dark rocks Lost Valley on Friday\, Feb 28th to help celebrate Lost Valley Brewing’s 7th Birthday! Ski Area Opens at 3p. Live Music 6:30-9:30.\nAfter Dark is a super fun Maine Party Band featuring Uriah Carver Vocals/Guitar\, Justin Carver Vocals/Guitar\, Decklin Sutton Drums. Special bass cameos and singing from LVB Brewman Darren Finnegan sprinkled in.
URL:https://www.lostvalleyski.com/event/after-dark-band-live-at-lvbs-birthday-bash/
LOCATION:Lost Valley\, 200 Lost Valley Rd\, Auburn\, ME\, 04210\, United States
CATEGORIES:Beer,Brewpub,Music/Entertainment
ATTACH;FMTTYPE=image/jpeg:https://www.lostvalleyski.com/wp-content/uploads/2025/02/after-dark-band.jpg
ORGANIZER;CN="Lost Valley":MAILTO:info@Lostvalleyski.com
END:VEVENT
END:VCALENDAR