BEGIN:VCALENDAR
VERSION:2.0
PRODID:-//Lost Valley | Ski &amp; Snowboard Area | Auburn, Main - ECPv6.15.20//NONSGML v1.0//EN
CALSCALE:GREGORIAN
METHOD:PUBLISH
X-ORIGINAL-URL:https://www.lostvalleyski.com
X-WR-CALDESC:Events for Lost Valley | Ski &amp; Snowboard Area | Auburn, Main
REFRESH-INTERVAL;VALUE=DURATION:PT1H
X-Robots-Tag:noindex
X-PUBLISHED-TTL:PT1H
BEGIN:VTIMEZONE
TZID:America/New_York
BEGIN:DAYLIGHT
TZOFFSETFROM:-0500
TZOFFSETTO:-0400
TZNAME:EDT
DTSTART:20240310T070000
END:DAYLIGHT
BEGIN:STANDARD
TZOFFSETFROM:-0400
TZOFFSETTO:-0500
TZNAME:EST
DTSTART:20241103T060000
END:STANDARD
BEGIN:DAYLIGHT
TZOFFSETFROM:-0500
TZOFFSETTO:-0400
TZNAME:EDT
DTSTART:20250309T070000
END:DAYLIGHT
BEGIN:STANDARD
TZOFFSETFROM:-0400
TZOFFSETTO:-0500
TZNAME:EST
DTSTART:20251102T060000
END:STANDARD
BEGIN:DAYLIGHT
TZOFFSETFROM:-0500
TZOFFSETTO:-0400
TZNAME:EDT
DTSTART:20260308T070000
END:DAYLIGHT
BEGIN:STANDARD
TZOFFSETFROM:-0400
TZOFFSETTO:-0500
TZNAME:EST
DTSTART:20261101T060000
END:STANDARD
BEGIN:DAYLIGHT
TZOFFSETFROM:-0500
TZOFFSETTO:-0400
TZNAME:EDT
DTSTART:20270314T070000
END:DAYLIGHT
BEGIN:STANDARD
TZOFFSETFROM:-0400
TZOFFSETTO:-0500
TZNAME:EST
DTSTART:20271107T060000
END:STANDARD
END:VTIMEZONE
BEGIN:VEVENT
DTSTART;TZID=America/New_York:20250323T100000
DTEND;TZID=America/New_York:20250323T130000
DTSTAMP:20260421T213052
CREATED:20250305T141302Z
LAST-MODIFIED:20250305T141302Z
UID:10004881-1742724000-1742734800@www.lostvalleyski.com
SUMMARY:Maine-ia-X Nordic Festival
DESCRIPTION:Start Times & Distances \n8:30 AM: Bib pick up opens. (REMEMBER\, NO DAY OF RACE REGISTRATION WITH THIS ONE!) \n10:00 AM: Qualification for all participants \nROUNDS PLAN ANNOUNCED on 3/22 (details will be posted here). \n\n\n\n\n\n\n\n\n\nRegister Online \n\n\n\n\n\n\n\n\n\n\n\n\nFOOD AND BEVERAGE AT LOST VALLEY BREW PUB \n\n\n\n\n\n\n\n\n\n\n\n\n\n\n\n\nNonstop Nordic and Lost Valley have teamed up to host an end of season Nordic Festival with a sprint competition. Think of a popular energy drink event\, but better! The course will be a drag race to the top of a terrain park that is followed by a fast flowy ride down banked s-turns\, drops\, and rollers. You will not need to catch a ride through the air\, but you will not confuse this with a ski on a golf course.  The event will be held at Lost Valley ski area on a terrain park converted for our racing pleasure. So plenty of snow and fun to be had. \nThe day begins with a qualifying round at 10am.  Every competitor will move on to the quarterfinals in his/her category bracket.  Top two finishers from each heat will move on to the next round. If you are not among the top two in the heat\, you will be placed into a different bracket and continue to compete.  All skiers will get a minimum of three rides around the course. (Once during qualifying and twice during heat format rounds). Those making the Maineia-X Finals will get four runs of bliss in their pursuit of greatness.  The format and categories are subject to change and are dependent on participant numbers with the goal of maximizing the fun factor. \nJoin us for a day of extreme sprint competition in a festive atmosphere celebrating skiing!
URL:https://www.lostvalleyski.com/event/maine-ia-x-nordic-festival-2/
LOCATION:Lost Valley\, 200 Lost Valley Rd\, Auburn\, ME\, 04210\, United States
CATEGORIES:Nordic/Cross Country Skiing,Racing
ATTACH;FMTTYPE=image/jpeg:https://www.lostvalleyski.com/wp-content/uploads/2025/03/MAINEIAXPoster2025.jpg
ORGANIZER;CN="Lost Valley":MAILTO:info@Lostvalleyski.com
END:VEVENT
BEGIN:VEVENT
DTSTART;TZID=America/New_York:20260404T083000
DTEND;TZID=America/New_York:20260404T150000
DTSTAMP:20260421T213052
CREATED:20260401T133248Z
LAST-MODIFIED:20260401T133248Z
UID:10006469-1775291400-1775314800@www.lostvalleyski.com
SUMMARY:Non-stop Nordic Maineia-X
DESCRIPTION:Saturday\, April 4\, 2026 \nLOCATION\nLost Valley Ski Area\n200 Lost Valley Road\nAuburn\, ME\nDriving Directions\n\n\n\n\n\n\n\n\nREGISTER HERE\n\n\n\n\n\n\n\n\nThis event is a top to bottom race! Chairlift ride to the start at the top. Course includes a few gates\, a couple uphill climbs\, sweeping turns\, and a sprint to the finish.\n\n\n\n\n\n\n\n\n\n\n\n \n\n\n\n\n\n\n\n\n\n\n\n\n\nStart Times & Distances \n8:45 AM: Registration and bib pick up opens. \n9:15 AM: Day of race registration closes. \n9:30 AM: Chairlift opens/ course opens for Inspection \n9:50 AM Course Closes. \n10:00 AM: Qualification round for all (one skier /15 secs) \n10:40 AM: Finals for youth and middle school (awards to follow) \n11:00 AM: Men’s Quarterfinals for Top 30 HS/Adults from qualification round \n11:10 AM: Women’s Quarters (or Semis TBD) for HS/Adults \n11:15 AM: Men’s 18-29 Finals \n11:20 AM: Men’s 30-39 Finals \n11:25 AM: Men’s 40-49 Finals \n11:30 AM: Men’s 50+ Finals \n11:40 AM: Men’s Semifinal 1 \n11:45 AM: Men’s Semifinal 2 \n11:50 AM: Women’s Adult Finals (awards to follow) \n11:55 AM: Women’s High School Finals (awards to follow) \n12:00 PM: Men’s Consolation Finals (awards to follow) \n12:10 PM: Men’s Finals (awards to follow) \n~12:30 PM: FREE for all who want the pain- UPHILL RACE! Mass start. Up Coyote trail. \nAll day: music\, the famous @mcollinme as announcer\, category prizes\, lots of raffle prizes (thank you BNS!). The Lost Valley Brewpub is open for food and beverage. Spectating from the deck is a prime viewing spot.
URL:https://www.lostvalleyski.com/event/non-stop-nordic-maineia-x/
LOCATION:Lost Valley\, 200 Lost Valley Rd\, Auburn\, ME\, 04210\, United States
CATEGORIES:Nordic/Cross Country Skiing,Racing
ATTACH;FMTTYPE=image/jpeg:https://www.lostvalleyski.com/wp-content/uploads/2026/04/IMG_0243.jpeg
ORGANIZER;CN="Lost Valley":MAILTO:info@Lostvalleyski.com
END:VEVENT
END:VCALENDAR