BEGIN:VCALENDAR
VERSION:2.0
PRODID:-//Lost Valley | Ski &amp; Snowboard Area | Auburn, Main - ECPv6.15.20//NONSGML v1.0//EN
CALSCALE:GREGORIAN
METHOD:PUBLISH
X-ORIGINAL-URL:https://www.lostvalleyski.com
X-WR-CALDESC:Events for Lost Valley | Ski &amp; Snowboard Area | Auburn, Main
REFRESH-INTERVAL;VALUE=DURATION:PT1H
X-Robots-Tag:noindex
X-PUBLISHED-TTL:PT1H
BEGIN:VTIMEZONE
TZID:America/New_York
BEGIN:DAYLIGHT
TZOFFSETFROM:-0500
TZOFFSETTO:-0400
TZNAME:EDT
DTSTART:20240310T070000
END:DAYLIGHT
BEGIN:STANDARD
TZOFFSETFROM:-0400
TZOFFSETTO:-0500
TZNAME:EST
DTSTART:20241103T060000
END:STANDARD
BEGIN:DAYLIGHT
TZOFFSETFROM:-0500
TZOFFSETTO:-0400
TZNAME:EDT
DTSTART:20250309T070000
END:DAYLIGHT
BEGIN:STANDARD
TZOFFSETFROM:-0400
TZOFFSETTO:-0500
TZNAME:EST
DTSTART:20251102T060000
END:STANDARD
BEGIN:DAYLIGHT
TZOFFSETFROM:-0500
TZOFFSETTO:-0400
TZNAME:EDT
DTSTART:20260308T070000
END:DAYLIGHT
BEGIN:STANDARD
TZOFFSETFROM:-0400
TZOFFSETTO:-0500
TZNAME:EST
DTSTART:20261101T060000
END:STANDARD
END:VTIMEZONE
BEGIN:VEVENT
DTSTART;TZID=America/New_York:20250905T183000
DTEND;TZID=America/New_York:20250905T213000
DTSTAMP:20260420T013221
CREATED:20250422T174307Z
LAST-MODIFIED:20250618T164649Z
UID:10005185-1757097000-1757107800@www.lostvalleyski.com
SUMMARY:Kona Brewing Concert Series at Lost Valley
DESCRIPTION:Come out and play every Friday at Lost Valley in Auburn for the Kona Brewing Summer Concert Series. Outside whenever possible\, join us every Friday Night for free all ages concerts on the Dirigo FCU Stage. Doors Open at 4pm. Music starts at 6:30pm\n\nEnjoy Kona Brewing beers and other favorites\, select cocktails\, ciders and seltzers from the outdoor bar\, plus full bar offerings inside.\nWeekly Rotating Food truck on site each week and sit down dining in Lost Valley’s Pub. See host for inside/outside pub seating.\n\nBring your own lawnchair\, but you can’t bring your own food & beverages. Pets welcome outside on a leash. Event is Rain or Shine….Inside if Rain..Outside if Shine\n\n2025 Band & Food Truck LineupJune 13th Father’s Day Eve Eve w/Skosh -Pinky D’s Poutine TruckJune 20 Dapper Gents -Sum’battus BBQ Food TruckJune 27 Fake Feelings & guests -Boondocks Farm Food TruckJuly 11 Burning Time & friends -Tripp’s Primal Farms Food TruckJuly 18 Camp of Rock\, End of Camp Show -Pinky D’s PoutineJuly 25 Stream Reggae -Jeff’s JamaicanAug 1 Bazinga! Band -Cruzin’ Slice Food TruckAug 8 Incubus Maine -Pinky D’s Poutine TruckAug 15th Ish -Rollin’ in the Dough Food TruckAug 22nd L/A Harley Bike Night -Burnt Ends BBQAug 29 Jumpin’ Willy’s -L/A Taco Food TruckSept 5th Hairy Pie-Cheese the Day Food Truck\n\nAbout our sponsors:\nPresenting Sponsor: Kona Brewing Company was founded by father and son team Cameron Healy and Spoon Khalsa. The pair had a vision to reflect the spirit\, culture\, and beauty of Hawaii in a collection of local island craft beers\, so in 1994 they set out for the Big Island to bring their dream to life. Flash forward to today\, and Kona Brewing has become one of the widely popular craft beer brands in the world.\n\nStage Sponsor: Dirigo Federal Credit Union\, through the teamwork and dedication of its employees and officials\, continually strives to provide the best\, most innovative financial services\, while supporting its members with a commitment to quality\, value\, and personalized service. Dirigo FCU proudly serve the counties of Androscoggin\, Cumberland\, Franklin\, Kennebec\, Knox\, Lincoln\, Oxford\, Sagadahoc\, Somerset\, and York.
URL:https://www.lostvalleyski.com/event/kona-brewing-concert-series-at-lost-valley/2025-09-05/
LOCATION:Lost Valley\, 200 Lost Valley Rd\, Auburn\, ME\, 04210\, United States
CATEGORIES:Brewpub,Family Event,Food Truck,Music/Entertainment
ATTACH;FMTTYPE=image/jpeg:https://www.lostvalleyski.com/wp-content/uploads/2025/04/Summer-Concert-Series-at-Lost-Valley-Auburn-Maine-2025.jpg
ORGANIZER;CN="Lost Valley":MAILTO:info@Lostvalleyski.com
END:VEVENT
BEGIN:VEVENT
DTSTART;TZID=America/New_York:20250907T073000
DTEND;TZID=America/New_York:20250907T120000
DTSTAMP:20260420T013221
CREATED:20250602T160300Z
LAST-MODIFIED:20250602T160300Z
UID:10005370-1757230200-1757246400@www.lostvalleyski.com
SUMMARY:Lake Auburn Half Marathon & 5k Run/Walk
DESCRIPTION:We hope to see you at our 14th anniversary event in 2025!The Lake Auburn Half Marathon event course includes beautiful views of Lake Auburn and the surrounding countryside\, making this one of the most scenic half marathons in Maine to participate in.\nRegistrations: https://runsignup.com/Race/ME/Auburn/LakeAuburnHalfMarathon\nThe Lake Auburn Half and 5K (LAHM) race planning committee have been working hard to plan another outstanding race experience for our participants and community! As we do every year\, we look forward to seeing all the walkers\, runners\, and spectators enjoying the course and our race.\nAll race proceeds from our events are generously donated to Moving ME Forward\, a local 501c3 organization whose vision is to be a cultivator of social change in the area of health and fitness within our Maine communities. To achieve their vision\, the mission of Moving ME Forward is to inspire young individuals to become Health Professionals and stay in the state of Maine\, creating innovative ideas that will also “Give Back” to their communities.\nSchedule:\nEvent Time=========================Half Marathon Walkers 7:30 amWarm up with CMCC Athletes 8:05 amKids Fun Run (ages 1-8) 8:10 amKids Fun Run (ages 9-12) 8:15 amAnnouncements & Anthem 8:25 amHalf Marathon & Relay 8:30 am5k Walk & Run 8:45 amCourse Sweep 12:00 pm(all racers off the course by 12:30 pm)
URL:https://www.lostvalleyski.com/event/lake-auburn-half-marathon-5k-run-walk/
LOCATION:Lost Valley\, 200 Lost Valley Rd\, Auburn\, ME\, 04210\, United States
CATEGORIES:Family Event,Fitness,Run/Hike
ATTACH;FMTTYPE=image/jpeg:https://www.lostvalleyski.com/wp-content/uploads/2025/06/lake-Auburn-half-marathon-2025.jpg
ORGANIZER;CN="Moving ME Forward":MAILTO:info@movingmeforward.org
END:VEVENT
END:VCALENDAR