BEGIN:VCALENDAR
VERSION:2.0
PRODID:-//Lost Valley | Ski &amp; Snowboard Area | Auburn, Main - ECPv6.15.20//NONSGML v1.0//EN
CALSCALE:GREGORIAN
METHOD:PUBLISH
X-ORIGINAL-URL:https://www.lostvalleyski.com
X-WR-CALDESC:Events for Lost Valley | Ski &amp; Snowboard Area | Auburn, Main
REFRESH-INTERVAL;VALUE=DURATION:PT1H
X-Robots-Tag:noindex
X-PUBLISHED-TTL:PT1H
BEGIN:VTIMEZONE
TZID:America/New_York
BEGIN:DAYLIGHT
TZOFFSETFROM:-0500
TZOFFSETTO:-0400
TZNAME:EDT
DTSTART:20240310T070000
END:DAYLIGHT
BEGIN:STANDARD
TZOFFSETFROM:-0400
TZOFFSETTO:-0500
TZNAME:EST
DTSTART:20241103T060000
END:STANDARD
BEGIN:DAYLIGHT
TZOFFSETFROM:-0500
TZOFFSETTO:-0400
TZNAME:EDT
DTSTART:20250309T070000
END:DAYLIGHT
BEGIN:STANDARD
TZOFFSETFROM:-0400
TZOFFSETTO:-0500
TZNAME:EST
DTSTART:20251102T060000
END:STANDARD
BEGIN:DAYLIGHT
TZOFFSETFROM:-0500
TZOFFSETTO:-0400
TZNAME:EDT
DTSTART:20260308T070000
END:DAYLIGHT
BEGIN:STANDARD
TZOFFSETFROM:-0400
TZOFFSETTO:-0500
TZNAME:EST
DTSTART:20261101T060000
END:STANDARD
END:VTIMEZONE
BEGIN:VEVENT
DTSTART;TZID=America/New_York:20250801T170000
DTEND;TZID=America/New_York:20250801T200000
DTSTAMP:20260420T012541
CREATED:20250718T201547Z
LAST-MODIFIED:20250718T201547Z
UID:10005386-1754067600-1754078400@www.lostvalleyski.com
SUMMARY:L.L.Bean Bootmobile Meet & Greet
DESCRIPTION: L.L.Bean’s legendary Bootmobile is rolling into Lost Valley! Stop by on Friday\, August 1st from 5pm-8pm and check out one of Maine’s most iconic (and oversized) vehicles — the L.L.Bean Bootmobile! Snap a photo and celebrate this fun piece of Maine outdoor heritage.\nPair it with your visit to the Oscar Mayer Wienermobile for a night of larger-than-life photo ops and family fun.\n Live Music | Food & Drinks | Free & Family FriendlyThe Brewpub will be open — come hang out\, snap pics\, and enjoy a little slice of Maine quirkiness
URL:https://www.lostvalleyski.com/event/l-l-bean-bootmobile-meet-greet/
LOCATION:Lost Valley\, 200 Lost Valley Rd\, Auburn\, ME\, 04210\, United States
CATEGORIES:Family Event,Music/Entertainment
ATTACH;FMTTYPE=image/jpeg:https://www.lostvalleyski.com/wp-content/uploads/2025/07/bootmobile.jpg
ORGANIZER;CN="Lost Valley":MAILTO:info@Lostvalleyski.com
END:VEVENT
BEGIN:VEVENT
DTSTART;TZID=America/New_York:20250801T170000
DTEND;TZID=America/New_York:20250801T200000
DTSTAMP:20260420T012541
CREATED:20250718T201716Z
LAST-MODIFIED:20250718T201716Z
UID:10005387-1754067600-1754078400@www.lostvalleyski.com
SUMMARY:Weinermobile Meet & Greet
DESCRIPTION: “Oh\, I Wish I Were at Lost Valley!” – Oscar Mayer Wienermobile Stop \nJoin us at Lost Valley on Friday\, August 1st from 5pm-8pm for a fun-filled evening as the world-famous Oscar Mayer Wienermobile rolls into town! Snap a selfie with the iconic 27-foot hot dog on wheels\, grab some free Wienermobile swag\, and relish the moment with friends and family.\nWhether you’re a lifelong fan of this legendary piece of Americana or just looking for a quirky way to kick off your weekend\, this is a stop you won’t want to miss!\nThe Brewpub will be open with great food\, cold drinks\, and good vibes — plus live music to keep things rolling.\nThe L.L.Bean Bootmobile will also be onsite!\n Free Admission | Family Friendly | Photo Ops & Giveaways
URL:https://www.lostvalleyski.com/event/weinermobile-meet-greet/
LOCATION:Lost Valley\, 200 Lost Valley Rd\, Auburn\, ME\, 04210\, United States
CATEGORIES:Brewpub,Family Event
ATTACH;FMTTYPE=image/jpeg:https://www.lostvalleyski.com/wp-content/uploads/2025/07/Oscar_Mayer_Frankmobile-scaled.jpg
ORGANIZER;CN="Lost Valley":MAILTO:info@Lostvalleyski.com
END:VEVENT
BEGIN:VEVENT
DTSTART;TZID=America/New_York:20250801T183000
DTEND;TZID=America/New_York:20250801T213000
DTSTAMP:20260420T012541
CREATED:20250422T174307Z
LAST-MODIFIED:20250618T164649Z
UID:10005180-1754073000-1754083800@www.lostvalleyski.com
SUMMARY:Kona Brewing Concert Series at Lost Valley
DESCRIPTION:Come out and play every Friday at Lost Valley in Auburn for the Kona Brewing Summer Concert Series. Outside whenever possible\, join us every Friday Night for free all ages concerts on the Dirigo FCU Stage. Doors Open at 4pm. Music starts at 6:30pm\n\nEnjoy Kona Brewing beers and other favorites\, select cocktails\, ciders and seltzers from the outdoor bar\, plus full bar offerings inside.\nWeekly Rotating Food truck on site each week and sit down dining in Lost Valley’s Pub. See host for inside/outside pub seating.\n\nBring your own lawnchair\, but you can’t bring your own food & beverages. Pets welcome outside on a leash. Event is Rain or Shine….Inside if Rain..Outside if Shine\n\n2025 Band & Food Truck LineupJune 13th Father’s Day Eve Eve w/Skosh -Pinky D’s Poutine TruckJune 20 Dapper Gents -Sum’battus BBQ Food TruckJune 27 Fake Feelings & guests -Boondocks Farm Food TruckJuly 11 Burning Time & friends -Tripp’s Primal Farms Food TruckJuly 18 Camp of Rock\, End of Camp Show -Pinky D’s PoutineJuly 25 Stream Reggae -Jeff’s JamaicanAug 1 Bazinga! Band -Cruzin’ Slice Food TruckAug 8 Incubus Maine -Pinky D’s Poutine TruckAug 15th Ish -Rollin’ in the Dough Food TruckAug 22nd L/A Harley Bike Night -Burnt Ends BBQAug 29 Jumpin’ Willy’s -L/A Taco Food TruckSept 5th Hairy Pie-Cheese the Day Food Truck\n\nAbout our sponsors:\nPresenting Sponsor: Kona Brewing Company was founded by father and son team Cameron Healy and Spoon Khalsa. The pair had a vision to reflect the spirit\, culture\, and beauty of Hawaii in a collection of local island craft beers\, so in 1994 they set out for the Big Island to bring their dream to life. Flash forward to today\, and Kona Brewing has become one of the widely popular craft beer brands in the world.\n\nStage Sponsor: Dirigo Federal Credit Union\, through the teamwork and dedication of its employees and officials\, continually strives to provide the best\, most innovative financial services\, while supporting its members with a commitment to quality\, value\, and personalized service. Dirigo FCU proudly serve the counties of Androscoggin\, Cumberland\, Franklin\, Kennebec\, Knox\, Lincoln\, Oxford\, Sagadahoc\, Somerset\, and York.
URL:https://www.lostvalleyski.com/event/kona-brewing-concert-series-at-lost-valley/2025-08-01/
LOCATION:Lost Valley\, 200 Lost Valley Rd\, Auburn\, ME\, 04210\, United States
CATEGORIES:Brewpub,Family Event,Food Truck,Music/Entertainment
ATTACH;FMTTYPE=image/jpeg:https://www.lostvalleyski.com/wp-content/uploads/2025/04/Summer-Concert-Series-at-Lost-Valley-Auburn-Maine-2025.jpg
ORGANIZER;CN="Lost Valley":MAILTO:info@Lostvalleyski.com
END:VEVENT
END:VCALENDAR