BEGIN:VCALENDAR
VERSION:2.0
PRODID:-//Lost Valley | Ski &amp; Snowboard Area | Auburn, Main - ECPv6.15.20//NONSGML v1.0//EN
CALSCALE:GREGORIAN
METHOD:PUBLISH
X-WR-CALNAME:Lost Valley | Ski &amp; Snowboard Area | Auburn, Main
X-ORIGINAL-URL:https://www.lostvalleyski.com
X-WR-CALDESC:Events for Lost Valley | Ski &amp; Snowboard Area | Auburn, Main
REFRESH-INTERVAL;VALUE=DURATION:PT1H
X-Robots-Tag:noindex
X-PUBLISHED-TTL:PT1H
BEGIN:VTIMEZONE
TZID:America/New_York
BEGIN:DAYLIGHT
TZOFFSETFROM:-0500
TZOFFSETTO:-0400
TZNAME:EDT
DTSTART:20240310T070000
END:DAYLIGHT
BEGIN:STANDARD
TZOFFSETFROM:-0400
TZOFFSETTO:-0500
TZNAME:EST
DTSTART:20241103T060000
END:STANDARD
BEGIN:DAYLIGHT
TZOFFSETFROM:-0500
TZOFFSETTO:-0400
TZNAME:EDT
DTSTART:20250309T070000
END:DAYLIGHT
BEGIN:STANDARD
TZOFFSETFROM:-0400
TZOFFSETTO:-0500
TZNAME:EST
DTSTART:20251102T060000
END:STANDARD
BEGIN:DAYLIGHT
TZOFFSETFROM:-0500
TZOFFSETTO:-0400
TZNAME:EDT
DTSTART:20260308T070000
END:DAYLIGHT
BEGIN:STANDARD
TZOFFSETFROM:-0400
TZOFFSETTO:-0500
TZNAME:EST
DTSTART:20261101T060000
END:STANDARD
END:VTIMEZONE
BEGIN:VEVENT
DTSTART;TZID=America/New_York:20250223T120000
DTEND;TZID=America/New_York:20250223T150000
DTSTAMP:20260420T020428
CREATED:20241212T155835Z
LAST-MODIFIED:20250215T185826Z
UID:10004462-1740312000-1740322800@www.lostvalleyski.com
SUMMARY:Patron's Oxford Sunday Race Series at Lost Valley
DESCRIPTION:Join the Patrons Oxford Sunday Race Series at Lost Valley!\nWhat: A fun\, all-ages GS-format downhill community race for skiers and snowboarders. Drop in any week or compete in 4 or more races to qualify for end-of-series prizes in your division! \nWhen: Sundays at 12:00 PM\, starting January 5th \n\n8 races total\nBest 4 results count toward series championships\n\nWho Can Race? \n\nSkiers: 6U\, 7-9\, 10-12\, 13-14\, 15-17\, 18+\nSnowboarders: 13U\, 14+\n\nRace Day Schedule:\n\nRegistration (Bib Pick-Up): 10:30-11:30 AM\nCourse Inspection: 11:30 AM-12:00 PM\nRace Start: 12:00 PM (youngest racers first or skip to the front of the line)\nFormat: Two runs\, fastest single run counts\n\nAwards & Prizes:\n\nWeekly recognition for class winners\nUpdated series standings each week\nWeekly raffles with prizes from sponsors (sports gear\, restaurant gift cards\, lift tickets\, ski supplies\, and more!)\nSeries Trophies: Awarded to the top 3 in each class\n\nRace Schedule (12:00 Start Time):\n\nJan 5 – Race 1\nJan 12 – Race 2\nJan 19 – Race 3\nJan 26 & Feb 2: No races (JP Races)\nFeb 9 – Race 4\nFeb 16 – Cancelled\nFeb 23 – Race 6\nMar 2 – Race 7\nMar 9 – Race 8 (Final Race)\n\nPricing:\n\nNon-Passholders: $40 (includes lift ticket for 12:00-4:00 PM and race fee)\nPassholders: $15 race fee\n\nContact:\nRace Director Scott B \n\nCall/Text: 207-333-9351\nEmail: scb684@icloud.com
URL:https://www.lostvalleyski.com/event/patrons-oxford-sunday-race-series-at-lost-valley/2025-02-23/
LOCATION:Lost Valley\, 200 Lost Valley Rd\, Auburn\, ME\, 04210\, United States
CATEGORIES:Family Event,Racing,Ski & Snowboard
ATTACH;FMTTYPE=image/png:https://www.lostvalleyski.com/wp-content/uploads/2024/12/Patrons-oxford-promo-2025-series.png
ORGANIZER;CN="Lost Valley":MAILTO:info@Lostvalleyski.com
END:VEVENT
END:VCALENDAR