BEGIN:VCALENDAR
VERSION:2.0
PRODID:-//Lost Valley | Ski &amp; Snowboard Area | Auburn, Main - ECPv6.15.20//NONSGML v1.0//EN
CALSCALE:GREGORIAN
METHOD:PUBLISH
X-ORIGINAL-URL:https://www.lostvalleyski.com
X-WR-CALDESC:Events for Lost Valley | Ski &amp; Snowboard Area | Auburn, Main
REFRESH-INTERVAL;VALUE=DURATION:PT1H
X-Robots-Tag:noindex
X-PUBLISHED-TTL:PT1H
BEGIN:VTIMEZONE
TZID:America/New_York
BEGIN:DAYLIGHT
TZOFFSETFROM:-0500
TZOFFSETTO:-0400
TZNAME:EDT
DTSTART:20250309T070000
END:DAYLIGHT
BEGIN:STANDARD
TZOFFSETFROM:-0400
TZOFFSETTO:-0500
TZNAME:EST
DTSTART:20251102T060000
END:STANDARD
BEGIN:DAYLIGHT
TZOFFSETFROM:-0500
TZOFFSETTO:-0400
TZNAME:EDT
DTSTART:20260308T070000
END:DAYLIGHT
BEGIN:STANDARD
TZOFFSETFROM:-0400
TZOFFSETTO:-0500
TZNAME:EST
DTSTART:20261101T060000
END:STANDARD
BEGIN:DAYLIGHT
TZOFFSETFROM:-0500
TZOFFSETTO:-0400
TZNAME:EDT
DTSTART:20270314T070000
END:DAYLIGHT
BEGIN:STANDARD
TZOFFSETFROM:-0400
TZOFFSETTO:-0500
TZNAME:EST
DTSTART:20271107T060000
END:STANDARD
END:VTIMEZONE
BEGIN:VEVENT
DTSTART;TZID=America/New_York:20261027T183000
DTEND;TZID=America/New_York:20261027T213000
DTSTAMP:20260420T205349
CREATED:20260406T194002Z
LAST-MODIFIED:20260406T194002Z
UID:10006495-1793125800-1793136600@www.lostvalleyski.com
SUMMARY:Tuesday Trivia Night at Lost Valley
DESCRIPTION:Grab your wicked smaht friends and join us for a fun weekly trivia night at Lost Valley hosted by Two Lops Trivia\nRotating themes each week. Prizes for top 2 teams\, drink specials and good times for all.\nEvery Tuesday Night April 28th-Nov 17th (except June 30th).\nBrewpub Opens at 4pm\, Trivia starts at 6:30pm.\nRSVP and make plans to spend every Tuesday in the Valley!Lost Valley’s Brewpub is open Tues-Fri 4p-9p starting April 28th for food drinks and fun and features Lost Valley Brewing Co Beers on tap and other favorites plus full bar offerings of spirits\, wine\, ciders and seltzers.\n\nLost Valley’s Brewpub is a family friendly brewpub in Auburn\, Maine that features delicious food\, great drinks and fun events like Trivia\, Bingo\, Cornhole\, live Music\, concerts and more!
URL:https://www.lostvalleyski.com/event/tuesday-trivia-night-at-lost-valley/2026-10-27/
LOCATION:Lost Valley\, 200 Lost Valley Rd\, Auburn\, ME\, 04210\, United States
CATEGORIES:Brewpub,Trivia
ATTACH;FMTTYPE=image/jpeg:https://www.lostvalleyski.com/wp-content/uploads/2026/04/Trivia-Night-FB-Event-3.jpg
ORGANIZER;CN="Lost Valley":MAILTO:info@Lostvalleyski.com
END:VEVENT
BEGIN:VEVENT
DTSTART;TZID=America/New_York:20261105T180000
DTEND;TZID=America/New_York:20261105T200000
DTSTAMP:20260420T205350
CREATED:20260415T124229Z
LAST-MODIFIED:20260415T124229Z
UID:10006519-1793901600-1793908800@www.lostvalleyski.com
SUMMARY:BINGO at Lost Valley's Brewpub -Auburn\, Maine
DESCRIPTION:BINGO! in the brewpub\, hosted by Lost Valley. Grab a seat in the pub and get ready for a fun night of food\, brews and BINGO. \nFree all Ages Event\, 1 Free Card per Person per game. Random prizes for round winners plus bigger prize for final cover-all/blackout game. Prizes include random swag\, Lost Valley Merch & swag\, Pizza coupons\, glassware and more. \nBrewpub opens at 4pm for food\, drinks and fun. Bingo starts at 6:00pm. \nBingo in the Brewpub is once a month on Thursdays\, here’s the 2026 schedule: \nMay 14th\nJune 11th\nJuly 9th\nAugust 6th\nSeptember 3rd\nOctober 1st\nNovember 5th
URL:https://www.lostvalleyski.com/event/bingo-at-lost-valleys-brewpub-auburn-maine/2026-11-05/
LOCATION:Lost Valley\, 200 Lost Valley Rd\, Auburn\, ME\, 04210\, United States
CATEGORIES:Brewpub,Family Event,Music/Entertainment
ATTACH;FMTTYPE=image/png:https://www.lostvalleyski.com/wp-content/uploads/2025/03/Bingo-in-the-brewpub.png
ORGANIZER;CN="Lost Valley":MAILTO:info@Lostvalleyski.com
END:VEVENT
END:VCALENDAR